BEGIN:VCALENDAR
PRODID:NingEventWidget-v1
VERSION:2.0
METHOD:PUBLISH
BEGIN:VEVENT
UID:3186561:Event:30766
DTSTAMP:20210313T173042Z
SUMMARY:POSTPONED--Monthly Meeting for Arapahoe County Tea Party
DESCRIPTION:As a result of overriding scheduling of events, our new le
 ader Randy Corporon and many of the people who regularly attend our mo
 nthly meetings will not be available for this date.  An alternate dat
 e is under review.  Watch for details of events.\n \n***************
 ********************\n \nAt the meeting November 1, Randy Corporon vo
 lunteered and was voted to lead the group.  Randy was with a small g
 roup who met in December 2010 to discuss ideas for the group and br
 ings a variety of activist experience to the leadership. \n \nThe No
 vember meeting included some representatives of other groups as well a
 s radio people (Kenneth Clark from Grassroots Radio Colorado, Jimmy Se
 ngenberger recent Regis graduate and substitute host for Backbone Radi
 o and other shows, and Art Carlson with a blogtalk radio program \"Art
 's Place\"). \n \nThere are a number of activities and events coming
  to become involved in.  One of the events to become informed about i
 s the February 7 Caucus and there will be caucus training events promo
 ted by various groups.  Caucus is where your representation starts so
  plan to turn out for this event in your local area. \n \nWatch for 
 further details for the December meeting as Randy makes them available
 .  The room was reserved at the Smoky Hill Library some time ago.  P
 lan to attend and get connected and informed. \nThe suggested schedul
 e for the December 6 meeting is:\n 6:30 - 6:45:  introductions6:45 -
  7:00:  announcements\n7:00 - 8:00:  agenda topics to be announced\n
 8:00 - 8:30:  group \"house-keeping,\" last-minute announcements,\n8:
 30:  adjourn and socialize [room needs to have chairs stacked and ta
 bles moved]\n9:00:  facilities close promptly\n* If you have topics f
 or discussion, meeting announcements for other groups, suggestions fo
 r speakers or topics, please add a comment below. \n\n**************
 **********\nNote:  Library closes promptly at 9:00 p.m.\nDisclaimer: 
 \"Granting of permission by the Arapahoe Library District to use libra
 ry facilities does not constitute endorsement by the Library District 
 Staff or Board of Trustees. \" Only signs that are 8 ½ x 11 are allow
 ed to be posted & only by the meeting room(s).\n \n******************
 ******\n\nMany thanks to Roy Caldwell (with CCM-Denver) who assisted 
 in reserving the room in Blossom's Restaurant at Heather Gardens for t
 he October and November meeting dates.  The library was not available
 .  [Note:  Blossom's will have a remodeling project covering early 2
 012 and will not be available at all then.] \n\n*********************
 ***\n\nMeeting locations are challenging to find.  If anyone has sugg
 estions, please add to the comments.  There are several groups lookin
 g for locations and there are obviously limitations to the availabilit
 y of the various libraries' meeting rooms.\n\n\n \n\nFor more informa
 tion visit http://arapahoeteaparty.ning.com/events/monthly-meeting-for
 -arapahoe-county-tea-party
DTSTART:20111207T013000Z
DTEND:20111207T040000Z
CATEGORIES:"monthly meeting"
LOCATION:Smoky Hill Library; Room A
WEBSITE:http://arapahoeteaparty.ning.com/
URL:http://arapahoeteaparty.ning.com/
CONTACT:(303) 690-5401
ORGANIZER:posted by W. Branstetter
ATTACH;FMTTYPE="image/jpeg":
ATTENDEE;ROLE=REQ-PARTICIPANT;PARTSTAT=ACCEPTED;RSVP=TRUE;CN="W. Brans
 tetter":http://arapahoeteaparty.ning.com/profile/WBranstetter
ATTENDEE;ROLE=REQ-PARTICIPANT;PARTSTAT=ACCEPTED;RSVP=TRUE;CN="Maclyn S
 tringer":http://arapahoeteaparty.ning.com/profile/MaclynStringer
ATTENDEE;ROLE=REQ-PARTICIPANT;PARTSTAT=TENTATIVE;RSVP=TRUE;CN="Harold 
 Lee Neely, Jr":http://arapahoeteaparty.ning.com/profile/HaroldLeeNeely
 Jr
END:VEVENT
END:VCALENDAR
