BEGIN:VCALENDAR
PRODID:NingEventWidget-v1
VERSION:2.0
METHOD:PUBLISH
BEGIN:VEVENT
UID:3186561:Event:35604
DTSTAMP:20210313T193233Z
SUMMARY:Monthly Meeting--Arapahoe County Tea Party:  Heritage ValuesBu
 s Speakers and more
DESCRIPTION:Our leader is busy with his usual daily employment and bus
 iness but a meeting date needs to be announced.  Randy Corporon will
  provide better details and his game plan soon.\n \nThere may be an e
 arlier start for this meeting so please watch for updates.  We do nee
 d some volunteers to arrive early (5:00 p.m.) to help with the set up 
 because both of the large meeting rooms will be used. \n \nArapahoe 
 County Tea Party -- Monthly Meeting\n \n5:00 - 6:00:  Volunteers are
  needed for set up\n \n                    Please
  arrive early for sign in and visiting\n \n6:00 - 8:30:  Meeting pro
 gram to be announced soon\n \n8:30:  Adjourn and socialize [room nee
 ds to have chairs and tables cleared and stacked]\n \n9:00:  Facili
 ties are closed promptly by library staff\n \n \nHave you seen the H
 eritage Foundation and Family Research Council Values Bus?  It is tou
 ring the country and may be in our area then.\n \nhttp://valuesbus.co
 m/ \n ************************\n  Note:  Library closes promptly at
  9:00 p.m.\n Disclaimer: \"Granting of permission by the Arapahoe Libr
 ary District to use library facilities does not constitute endorsement
  by the Library District Staff or Board of Trustees. \" Only signs tha
 t are 8 ½ x 11 are allowed to be posted & only by the meeting room(s)
 .\n \nAll activities for meetings need to be confined to the reserved
  meeting room.  Distribution of pamphlets outside the meeting room m
 ust be in designated locations outside the building.\n   \n \n\nFo
 r more information visit http://arapahoeteaparty.ning.com/events/month
 ly-meeting-for-arapahoe-county-tea-party-3
DTSTART:20120502T000000Z
DTEND:20120502T023000Z
CATEGORIES:"monthly meeting"
LOCATION:Smoky Hill Library; Room A/B
WEBSITE:http://arapahoeteaparty.ning.com/
URL:http://arapahoeteaparty.ning.com/
CONTACT:(303) 690-5401
ORGANIZER:posted by W. Branstetter
ATTACH;FMTTYPE="image/jpeg":
ATTENDEE;ROLE=REQ-PARTICIPANT;PARTSTAT=ACCEPTED;RSVP=TRUE;CN="Randy B 
 Corporon":http://arapahoeteaparty.ning.com/profile/RandyBCorporon
ATTENDEE;ROLE=REQ-PARTICIPANT;PARTSTAT=ACCEPTED;RSVP=TRUE;CN="Chairman
 's Committee":http://arapahoeteaparty.ning.com/profile/chairmanscommit
 tee
ATTENDEE;ROLE=REQ-PARTICIPANT;PARTSTAT=ACCEPTED;RSVP=TRUE;CN="Marla Wa
 yman":http://arapahoeteaparty.ning.com/profile/MarlaWayman
ATTENDEE;ROLE=REQ-PARTICIPANT;PARTSTAT=ACCEPTED;RSVP=TRUE;CN="W. Brans
 tetter":http://arapahoeteaparty.ning.com/profile/WBranstetter
ATTENDEE;ROLE=REQ-PARTICIPANT;PARTSTAT=ACCEPTED;RSVP=TRUE;CN="Neal K P
 ashman":http://arapahoeteaparty.ning.com/profile/NealKPashman
END:VEVENT
END:VCALENDAR
