BEGIN:VCALENDAR
PRODID:NingEventWidget-v1
VERSION:2.0
METHOD:PUBLISH
BEGIN:VEVENT
UID:3186561:Event:34699
DTSTAMP:20210313T172143Z
SUMMARY:Monthly Meeting for Arapahoe County Tea Party
DESCRIPTION:Â \nArapahoe County Tea Party -- Monthly Meeting -- Prelim
 inary Agenda\nÂ \n6:30 - 6:45:Â  Introductions\n6:45 - 7:00:Â  Review 
 announcement handout\nÂ \n7:00 - 8:00:Â Â Agenda to be determined--sub
 jects may include:\nÂ Â Â Â Â Â Â Â Â Â Â Â Â Â Â Â Â Â  How to get in
 volved for 2012\nÂ Â Â Â Â Â Â Â Â Â Â Â Â Â Â Â Â Â Â  --Â  Review th
 e caucus\nÂ Â Â Â Â Â Â Â Â Â Â Â Â Â Â Â Â Â Â  --Â  Other organizati
 ons [i.e., R Block Party or GOP groups]\nÂ Â Â Â Â Â Â Â Â Â Â Â Â Â Â
  Â Â Â Â  --Â  Volunteer\nÂ Â Â Â Â Â Â Â Â Â Â Â Â Â Â Â Â Â Â  --Â  
 Candidates or events\nÂ \nÂ \n8:00 - 8:30:Â  Final comments\nÂ \n8:30:
 Â  Adjourn and socialize [room needs to have chairs andÂ tables cleare
 d]\nÂ \n9:00:Â  Facilities are closed promptly\nÂ \nAt the November 1,
  2011, meeting Randy B. Corporon was nominated and elected to lead the
  meetings.Â  There was no December meeting because of several conflict
 ing events.Â  The January meeting was well attended.Â  The GOP caucus 
 conflicted with the February meeting date so there was no meetingÂ \nÂ
  \nÂ \nPlease add comments if you have topic suggestions or other idea
 s.\nÂ \n************************Note:Â  Library closes promptly at 9:0
 0 p.m.\nDisclaimer: \"Granting of permission by the Arapahoe Library D
 istrict to use library facilities does not constitute endorsement by t
 he Library District Staff or Board of Trustees. \" Only signs that are
  8 Â½ x 11 are allowed to be posted & only by the meeting room(s).\nÂ 
 \nÂ \nÂ \n\nFor more information visit http://arapahoeteaparty.ning.co
 m/events/monthly-meeting-for-arapahoe-county-tea-party-2
DTSTART:20120307T013000Z
DTEND:20120307T033000Z
CATEGORIES:"monthly meeting"
LOCATION:Smoky Hill Library; Room A
WEBSITE:http://arapahoeteaparty.ning.com/
URL:http://arapahoeteaparty.ning.com/
CONTACT:(303) 690-5401
ORGANIZER:posted by W. Branstetter
ATTACH;FMTTYPE="image/jpeg":
ATTENDEE;ROLE=REQ-PARTICIPANT;PARTSTAT=ACCEPTED;RSVP=TRUE;CN="Bill Rob
 inson":http://arapahoeteaparty.ning.com/profile/BillRobinson
ATTENDEE;ROLE=REQ-PARTICIPANT;PARTSTAT=ACCEPTED;RSVP=TRUE;CN="M Lucy S
 chell":http://arapahoeteaparty.ning.com/profile/MLucySchell
ATTENDEE;ROLE=REQ-PARTICIPANT;PARTSTAT=ACCEPTED;RSVP=TRUE;CN="Steven H
 aworth":http://arapahoeteaparty.ning.com/profile/StevenHaworth
ATTENDEE;ROLE=REQ-PARTICIPANT;PARTSTAT=ACCEPTED;RSVP=TRUE;CN="Randy B 
 Corporon":http://arapahoeteaparty.ning.com/profile/RandyBCorporon
ATTENDEE;ROLE=REQ-PARTICIPANT;PARTSTAT=ACCEPTED;RSVP=TRUE;CN="Fredrick
  Lindner":http://arapahoeteaparty.ning.com/profile/FredrickDLindner
ATTENDEE;ROLE=REQ-PARTICIPANT;PARTSTAT=ACCEPTED;RSVP=TRUE;CN="W. Brans
 tetter":http://arapahoeteaparty.ning.com/profile/WBranstetter
ATTENDEE;ROLE=REQ-PARTICIPANT;PARTSTAT=TENTATIVE;RSVP=TRUE;CN="Edwin N
 eal":http://arapahoeteaparty.ning.com/profile/EdwinNeal
END:VEVENT
END:VCALENDAR
