BEGIN:VCALENDAR
PRODID:NingEventWidget-v1
VERSION:2.0
METHOD:PUBLISH
BEGIN:VEVENT
UID:3186561:Event:26476
DTSTAMP:20210313T174726Z
SUMMARY:Monthly Meeting (ATP):  Speaker -- Mark Hillman
DESCRIPTION:Mark Hillman, former majority leader of the Colorado Senat
 e, will speak on \"Obama's 2012 Gamble.\" \n \nhttp://www.markhillma
 n.com/bio/\n \nArapahoe County Tea Party will be trying out a differe
 nt meeting location for October (and probably November) and encourage 
 you to try the dinner buffet ($6.95) and arrive early and socialize a
  bit at:\n \nBlossoms Restaurant at Heather Gardens\n2888 South Heat
 her Gardens Way #3\nAurora, Colorado  80014\n \nhttp://www.mapquest.
 com/maps?cat=Blossom's%20Restaurant&address=2888%20S%20Heather%20Garde
 ns%20Way&city=Aurora&state=CO&zipcode=80014\nThe suggested schedule fo
 r the meeting is:\n 6:30 - 6:45:  set up and introductions6:45 - 7:0
 0: pre-submitted announcement handout and speaker introduction7:00 - 8
 :00: speaker & questions 8:00 - 8:30: group \"house-keeping,\" last-mi
 nute announcements, updates8:30: adjourn but allow people to hang out 
 and socialize if they'd like [room needs to have tables and chairs sto
 wed]\n9:00:  facilities are closed\n****************\nNote:  We are 
 still discussing the needs for leadership for the group.  Suggestions
  are helpful.  Discussion prior to the meeting might be worthwhile to
  incorporate in the meeting.\n \n \n\n\nFor more information visit 
 http://arapahoeteaparty.ning.com/events/monthly-meeting-atp-speaker-ma
 rk-hillman
DTSTART:20111005T003000Z
DTEND:20111005T023000Z
CATEGORIES:"monthly meeting"
LOCATION:Blossom's Restaurant at Heather Gardens
WEBSITE:
URL:
CONTACT:(303) 690-5401
ORGANIZER;CN="W. Branstetter":http://arapahoeteaparty.ning.com/profile
 /WBranstetter
ATTACH;FMTTYPE="image/jpeg":
ATTENDEE;ROLE=REQ-PARTICIPANT;PARTSTAT=ACCEPTED;RSVP=TRUE;CN="Roy Cald
 well":http://arapahoeteaparty.ning.com/profile/RoyCaldwell
ATTENDEE;ROLE=REQ-PARTICIPANT;PARTSTAT=ACCEPTED;RSVP=TRUE;CN="Margaret
  Ireland":http://arapahoeteaparty.ning.com/profile/MargaretIreland
ATTENDEE;ROLE=REQ-PARTICIPANT;PARTSTAT=ACCEPTED;RSVP=TRUE;CN="W. Brans
 tetter":http://arapahoeteaparty.ning.com/profile/WBranstetter
END:VEVENT
END:VCALENDAR
