BEGIN:VCALENDAR
PRODID:NingEventWidget-v1
VERSION:2.0
METHOD:PUBLISH
BEGIN:VEVENT
UID:3186561:Event:58883
DTSTAMP:20210313T184221Z
SUMMARY:Monthly Meeting--Arapahoe Tea Party (topics to be determined)
DESCRIPTION:Arapahoe County Tea Party meets the second Tuesday each mo
 nth, with a few exceptions.  The topics or guest speakers have not be
 en determined as of May 1, so watch for details.\n\nIf you learn of to
 wnhall meetings or candidate forums, please spread the word--i.e. in c
 omments below or on the group's Facebook page.  Watch this Arapahoe T
 ea Party website for events for other groups or educational events.\n\
 nAs with all of the meetings, come early for a good seat.\n\nOur meeti
 ngs attract a crowd, so come early!  \n \nTuesday, June 14, 2016 6:3
 0-8:30 pm South Metro Fire Rescue 9195 E. Mineral Ave. Centennial, CO 
 80112\n\nNOTE: Please do not call South Metro Fire Rescue's office for
  information, the board room is reserved for many groups' purposes wit
 hout details of the events.\n \nEvent announcement on Facebook:\n \n
 \n \n \nIf you would be interested in helping with a committee or tw
 o that might help make meetings and events run smoother, would you ple
 ase post a brief comment with this announcement.\n \nIf you are not c
 onnected via Facebook, please find the group \"Arapahoe Tea Party\" f
 or news items and events:\nhttps://www.facebook.com/groups/arapahoetea
 party\n \n*************************\n\nNOTE:  Please do not contact 
 the building management for information about this event.  The group 
 sponsoring the event has contact information at the link provided abov
 e.\n\n\n\nFor more information visit http://arapahoeteaparty.ning.com/
 events/monthly-meeting-arapahoe-tea-party-topics-to-be-determined-1
DTSTART:20160615T003000Z
DTEND:20160615T023000Z
CATEGORIES:"monthly meeting"
LOCATION:South Metro Fire Rescue Authority; Mineral Headquarters, Boar
 d Room
WEBSITE:https://maps.google.com/maps?oe=utf-8&client=firefox-a&ie=UTF-
 8&q=south+metro+fire+rescue+authority+mineral+headquarters&fb=1&gl=us&
 hq=south+metro+fire+rescue+authority+mineral+headquarters&cid=0,0,9189
 900575761474566&ei=wsvZUfvrHoWQyQHR5oGQCg&ved=0CIcBEPwSMAA
URL:https://maps.google.com/maps?oe=utf-8&client=firefox-a&ie=UTF-8&q=
 south+metro+fire+rescue+authority+mineral+headquarters&fb=1&gl=us&hq=s
 outh+metro+fire+rescue+authority+mineral+headquarters&cid=0,0,91899005
 75761474566&ei=wsvZUfvrHoWQyQHR5oGQCg&ved=0CIcBEPwSMAA
CONTACT:
ORGANIZER:Regina Thomson and Randy Corporon [posted by W. Branstetter]
ATTACH;FMTTYPE="image/jpeg":
ATTENDEE;ROLE=REQ-PARTICIPANT;PARTSTAT=ACCEPTED;RSVP=TRUE;CN="W. Brans
 tetter":http://arapahoeteaparty.ning.com/profile/WBranstetter
END:VEVENT
END:VCALENDAR
