BEGIN:VCALENDAR
PRODID:NingEventWidget-v1
VERSION:2.0
METHOD:PUBLISH
BEGIN:VEVENT
UID:3186561:Event:37232
DTSTAMP:20210313T192626Z
SUMMARY:Monthly Meeting--Arapahoe County Tea Party
DESCRIPTION:Plan on attending the June meeting of Arapahoe County Tea 
 Party on June 5.Â  There is a lot to be talking about and ideas for ge
 tting involved for the next few months.Â \nÂ \nOur leader, Randy Corpo
 ron will provide better details andÂ a game plan or outline soon.\nÂ Â
  \nArapahoe County Tea Party -- Monthly Meeting\nÂ \nÂ \n6:30 - 8:30:Â
   Meeting program to be announced soon\nÂ \n8:30:Â  Adjourn and social
 ize [room needs to have chairs andÂ tables cleared and stored]\nÂ \n9:
 00:Â  Facilities are closed promptly by library staff\nÂ \nÂ \nAll of 
 the candidates will be vying for your attention in June since the Colo
 rado primary is scheduled for June 26.Â  This a terrific opportunity t
 o meet candidates and become informed, involved as volunteers, or othe
 r activities.Â  Candidates for all positions are looking for monetary 
 support--support them if you can.\nÂ \nWatch for event announcements f
 or other groups that have educational meetings and events.Â  Many even
 ts will be posted in the events section or on the Facebook page (Arap 
 TeaParty).Â \nÂ \nhttp://arapahoeteaparty.ning.com/\nÂ \nÂ  **********
 **************\n Â Note:Â  Library closes promptly at 9:00 p.m.\n Disc
 laimer: \"Granting of permission by the Arapahoe Library District to u
 se library facilities does not constitute endorsement by the Library D
 istrict Staff or Board of Trustees. \" Only signs that are 8 Â½ x 11 a
 re allowed to be posted & only by the meeting room(s).\nÂ \nÂ \nÂ Â Â 
 \nÂ \n\nFor more information visit http://arapahoeteaparty.ning.com/ev
 ents/monthly-meeting-arapahoe-county-tea-party
DTSTART:20120606T003000Z
DTEND:20120606T023000Z
CATEGORIES:"monthly meeting"
LOCATION:Smoky Hill Library; Room A
WEBSITE:http://arapahoeteaparty.ning.com/
URL:http://arapahoeteaparty.ning.com/
CONTACT:(303) 690-5401
ORGANIZER:posted by W. Branstetter
ATTACH;FMTTYPE="image/jpeg":
ATTENDEE;ROLE=REQ-PARTICIPANT;PARTSTAT=ACCEPTED;RSVP=TRUE;CN="Joseph W
 illiam Gabriele":http://arapahoeteaparty.ning.com/profile/JosephWillia
 mGabriele
ATTENDEE;ROLE=REQ-PARTICIPANT;PARTSTAT=ACCEPTED;RSVP=TRUE;CN="Geri Zah
 ner":http://arapahoeteaparty.ning.com/profile/GeriZahner
ATTENDEE;ROLE=REQ-PARTICIPANT;PARTSTAT=ACCEPTED;RSVP=TRUE;CN="Fredrick
  Lindner":http://arapahoeteaparty.ning.com/profile/FredrickDLindner
ATTENDEE;ROLE=REQ-PARTICIPANT;PARTSTAT=ACCEPTED;RSVP=TRUE;CN="M Lucy S
 chell":http://arapahoeteaparty.ning.com/profile/MLucySchell
ATTENDEE;ROLE=REQ-PARTICIPANT;PARTSTAT=ACCEPTED;RSVP=TRUE;CN="W. Brans
 tetter":http://arapahoeteaparty.ning.com/profile/WBranstetter
END:VEVENT
END:VCALENDAR
