BEGIN:VCALENDAR
PRODID:NingEventWidget-v1
VERSION:2.0
METHOD:PUBLISH
BEGIN:VEVENT
UID:3186561:Event:37323
DTSTAMP:20210313T173700Z
SUMMARY:Monthly Meeting--Arapahoe County Tea Party
DESCRIPTION:Plan on attending the July meeting of Arapahoe County Tea 
 Party on August 7.Â  There is a lot to be talking about and ideas for 
 getting involved for the next few months.Â \nÂ \nOur leader, Randy Cor
 poron will provide details andÂ a game plan or outline later.\nÂ Â \nA
 rapahoe County Tea Party -- Monthly Meeting\nÂ \nÂ \n6:30 - 8:30:Â  Me
 eting program to be announced soon\nÂ \n8:30:Â  Adjourn and socialize 
 [room needs to have chairs andÂ tables cleared and stored]\nÂ \n9:00:Â
   Facilities are closed promptly by library staff\n\nÂ \n*************
 *******\nÂ \nCandidates are out walking the various precincts and atte
 nding a variety of events.Â Â Please meet them andÂ become informed an
 dÂ involved.Â  Candidates for all positions are looking for monetary s
 upport and support with other events--support them if you can.\nÂ \nWa
 tch for event announcements for other groups that have educational mee
 tings and events.Â  Many events will be posted in the events section o
 r on the Facebook page (Arap TeaParty).Â \nÂ \nhttp://arapahoeteaparty
 .ning.com/\nFacebook name is Arap TeaParty\nÂ  ***********************
 *\n Â Note:Â  Library closes promptly at 9:00 p.m.\n Disclaimer: \"Gra
 nting of permission by the Arapahoe Library District to use library fa
 cilities does not constitute endorsement by the Library District Staff
  or Board of Trustees. \" Only signs that are 8 Â½ x 11 are allowed to
  be posted & only by the meeting room(s).\nÂ \nÂ \nÂ Â Â \nÂ \n\nFor m
 ore information visit http://arapahoeteaparty.ning.com/events/monthly-
 meeting-arapahoe-county-tea-party-2
DTSTART:20120808T003000Z
DTEND:20120808T023000Z
CATEGORIES:"monthly meeting"
LOCATION:Smoky Hill Library; Room A
WEBSITE:http://arapahoeteaparty.ning.com/
URL:http://arapahoeteaparty.ning.com/
CONTACT:(303) 690-5401
ORGANIZER:posted by W. Branstetter
ATTACH;FMTTYPE="image/jpeg":
ATTENDEE;ROLE=REQ-PARTICIPANT;PARTSTAT=ACCEPTED;RSVP=TRUE;CN="Victoria
  Anne Livingston":http://arapahoeteaparty.ning.com/profile/VictoriaAnn
 eLivingston
ATTENDEE;ROLE=REQ-PARTICIPANT;PARTSTAT=ACCEPTED;RSVP=TRUE;CN="Randy B 
 Corporon":http://arapahoeteaparty.ning.com/profile/RandyBCorporon
ATTENDEE;ROLE=REQ-PARTICIPANT;PARTSTAT=ACCEPTED;RSVP=TRUE;CN="John J. 
 Waters":http://arapahoeteaparty.ning.com/profile/JohnJWaters
ATTENDEE;ROLE=REQ-PARTICIPANT;PARTSTAT=ACCEPTED;RSVP=TRUE;CN="Joseph W
 illiam Gabriele":http://arapahoeteaparty.ning.com/profile/JosephWillia
 mGabriele
ATTENDEE;ROLE=REQ-PARTICIPANT;PARTSTAT=ACCEPTED;RSVP=TRUE;CN="W. Brans
 tetter":http://arapahoeteaparty.ning.com/profile/WBranstetter
END:VEVENT
END:VCALENDAR
