BEGIN:VCALENDAR
PRODID:NingEventWidget-v1
VERSION:2.0
METHOD:PUBLISH
BEGIN:VEVENT
UID:3186561:Event:37499
DTSTAMP:20210313T174541Z
SUMMARY:Monthly Meeting--Arapahoe County Tea Party
DESCRIPTION:Plan on attending the July meeting of Arapahoe County Tea 
 Party on July 3.  There is a lot to be talking about and ideas for ge
 tting involved for the next few months. \n \nOur leader, Randy Corpo
 ron will provide details and a game plan or outline soon.\n  \nArap
 ahoe County Tea Party -- Monthly Meeting\n \n \n6:30 - 8:30:  Meeti
 ng program to be announced soon\n \n8:30:  Adjourn and socialize [ro
 om needs to have chairs and tables cleared and stored]\n \n9:00:  F
 acilities are closed promptly by library staff\n\n \n****************
 ****\n \nBallots for the Colorado primary should be mailed several d
 ays in advance of the deadline for the June 26 primary or locate drop 
 off locations. \n \nCandidates are out walking the various precincts
  and attending a variety of events.  Please meet them and become in
 formed and involved.  Candidates for all positions are looking for m
 onetary support and support with other events--support them if you can
 .\n \nWatch for event announcements for other groups that have educat
 ional meetings and events.  Many events will be posted in the events 
 section or on the Facebook page (Arap TeaParty). \n \nhttp://arapaho
 eteaparty.ning.com/\nFacebook name is Arap TeaParty\n  **************
 **********\n  Note:  Library closes promptly at 9:00 p.m.\n Disclaim
 er: \"Granting of permission by the Arapahoe Library District to use l
 ibrary facilities does not constitute endorsement by the Library Distr
 ict Staff or Board of Trustees. \" Only signs that are 8 ½ x 11 are a
 llowed to be posted & only by the meeting room(s).\n \n \n   \n 
 \n\nFor more information visit http://arapahoeteaparty.ning.com/events
 /monthly-meeting-arapahoe-county-tea-party-1
DTSTART:20120704T003000Z
DTEND:20120704T023000Z
CATEGORIES:"monthly meeting"
LOCATION:Smoky Hill Library; Room A
WEBSITE:http://arapahoeteaparty.ning.com/
URL:http://arapahoeteaparty.ning.com/
CONTACT:(303) 690-5401
ORGANIZER:posted by W. Branstetter
ATTACH;FMTTYPE="image/jpeg":
ATTENDEE;ROLE=REQ-PARTICIPANT;PARTSTAT=ACCEPTED;RSVP=TRUE;CN="karen hu
 rst":http://arapahoeteaparty.ning.com/profile/karenhurst
ATTENDEE;ROLE=REQ-PARTICIPANT;PARTSTAT=ACCEPTED;RSVP=TRUE;CN="Randy B 
 Corporon":http://arapahoeteaparty.ning.com/profile/RandyBCorporon
ATTENDEE;ROLE=REQ-PARTICIPANT;PARTSTAT=ACCEPTED;RSVP=TRUE;CN="Lisa G S
 pear":http://arapahoeteaparty.ning.com/profile/LisaGSpear
ATTENDEE;ROLE=REQ-PARTICIPANT;PARTSTAT=ACCEPTED;RSVP=TRUE;CN="Elaine D
 emery Potter":http://arapahoeteaparty.ning.com/profile/ElaineDemeryPot
 ter
ATTENDEE;ROLE=REQ-PARTICIPANT;PARTSTAT=ACCEPTED;RSVP=TRUE;CN="Joseph W
 illiam Gabriele":http://arapahoeteaparty.ning.com/profile/JosephWillia
 mGabriele
ATTENDEE;ROLE=REQ-PARTICIPANT;PARTSTAT=ACCEPTED;RSVP=TRUE;CN="W. Brans
 tetter":http://arapahoeteaparty.ning.com/profile/WBranstetter
END:VEVENT
END:VCALENDAR
