BEGIN:VCALENDAR
PRODID:NingEventWidget-v1
VERSION:2.0
METHOD:PUBLISH
BEGIN:VEVENT
UID:3186561:Event:24674
DTSTAMP:20210313T180925Z
SUMMARY:Monthly Meeting:  Amanda Teresi-Muell of \"Liberty on the Rock
 s\"
DESCRIPTION: \nAmanda Teresi-Muell is president and co-founder of \"L
 iberty on the Rocks\", a group that promotes debate with \"tavern sty
 le politics in the tradition of the founding fathers.\"   This grou
 p is a \"national grassroots freedom movement that aims to unite libe
 rty lovers of all political affiliations, so that together they can ha
 ve an impact in the fight for smaller government.\"  \n \nhttp://li
 bertyontherocks.org/\n \nThe meeting agenda will include other items 
 for discussion. \n \nMany thanks to Andy Peth for the presentation o
 f his message about \"choice\" and the flyers.  There certainly was a
  lively discussion.  For those who missed the presentation, please re
 fer to the web site:\n \nhttp://www.thepartyofchoice.com/\n \n******
 ******************Note:  Library closes promptly at 9:00 p.m.\nDiscla
 imer: \"Granting of permission by the Arapahoe Library District to use
  library facilities does not constitute endorsement by the Library Dis
 trict Staff or Board of Trustees. \" Only signs that are 8 ½ x 11 are
  allowed to be posted & only by the meeting room(s).\n \n \n \n\nFo
 r more information visit http://arapahoeteaparty.ning.com/events/month
 ly-meeting-amanda-teresi-muell-of-liberty-on-the-rocks
DTSTART:20110907T003000Z
DTEND:20110907T030000Z
CATEGORIES:"monthly meeting"
LOCATION:Smoky Hill Library; Room A
WEBSITE:http://arapahoeteaparty.ning.com/
URL:http://arapahoeteaparty.ning.com/
CONTACT:(303) 690-5401
ORGANIZER:posted by W. Branstetter
ATTACH;FMTTYPE="image/jpeg":
ATTENDEE;ROLE=REQ-PARTICIPANT;PARTSTAT=ACCEPTED;RSVP=TRUE;CN="Randy B 
 Corporon":http://arapahoeteaparty.ning.com/profile/RandyBCorporon
ATTENDEE;ROLE=REQ-PARTICIPANT;PARTSTAT=ACCEPTED;RSVP=TRUE;CN="Edwin Ne
 al":http://arapahoeteaparty.ning.com/profile/EdwinNeal
ATTENDEE;ROLE=REQ-PARTICIPANT;PARTSTAT=ACCEPTED;RSVP=TRUE;CN="W. Brans
 tetter":http://arapahoeteaparty.ning.com/profile/WBranstetter
END:VEVENT
END:VCALENDAR
