BEGIN:VCALENDAR
PRODID:NingEventWidget-v1
VERSION:2.0
METHOD:PUBLISH
BEGIN:VEVENT
UID:3186561:Event:11562
DTSTAMP:20210313T175758Z
SUMMARY:Meeting--Arapahoe County Tea Party
DESCRIPTION:Our chairman, Cathy Mitchell, has been quite busy and I am
  offering this announcement and rough draft agenda for reference so th
 e date and time can be added to your calendar.  March has been a busy
  month and there is much to discuss.  Hope to see you Tuesday, April 
 5.  [note from Wilma]\nDraft Agenda\n \nStatus of discussion with ot
 her liberty groups, i.e.,:\n  -- joint letter to elected federal rep
 resentatives on continuing resolution\n  -- \"caucus\" meeting held F
 riday, April 1, at state capitol*\n  -- Colorado SB11-200\n \nOther 
 topics will be added as needed\n \n*Note:  group Freedom Action Coal
 ition Team (FACT)\n \n \nLibrary Notice:  Any advertisement or anno
 uncements regarding your meeting must contain our disclaimer: \"Granti
 ng of permission by the Arapahoe Library District to use library facil
 ities does not constitute endorsement by the Library District Staff or
  Board of Trustees.\" Only signs that are 8 ½ x 11 are allowed to be 
 posted & only by the meeting room(s).\n\nFor more information visit ht
 tp://arapahoeteaparty.ning.com/events/meetingarapahoe-county-tea-1
DTSTART:20110406T003000Z
DTEND:20110406T030000Z
CATEGORIES:meeting
LOCATION:Smoky Hill Library, Room B
WEBSITE:http://maps.google.com/maps/ms?ie=UTF8&hl=en&msa=0&msid=111947
 304187195641637.0004892bdec006a7f74ed&ll=39.623673,-104.757729&spn=0.1
 02737,0.222988&z=13&iwloc=000490b9107192c33feb5
URL:http://maps.google.com/maps/ms?ie=UTF8&hl=en&msa=0&msid=1119473041
 87195641637.0004892bdec006a7f74ed&ll=39.623673,-104.757729&spn=0.10273
 7,0.222988&z=13&iwloc=000490b9107192c33feb5
CONTACT:
ORGANIZER:posted by W. Branstetter
ATTACH;FMTTYPE="image/jpeg":
ATTENDEE;ROLE=REQ-PARTICIPANT;PARTSTAT=ACCEPTED;RSVP=TRUE;CN="Cathy Mi
 tchell":http://arapahoeteaparty.ning.com/profile/CathyMitchell
ATTENDEE;ROLE=REQ-PARTICIPANT;PARTSTAT=ACCEPTED;RSVP=TRUE;CN="Keith Ul
 mer":http://arapahoeteaparty.ning.com/profile/KeithUlmer
ATTENDEE;ROLE=REQ-PARTICIPANT;PARTSTAT=ACCEPTED;RSVP=TRUE;CN="Victoria
  Anne Livingston":http://arapahoeteaparty.ning.com/profile/VictoriaAnn
 eLivingston
ATTENDEE;ROLE=REQ-PARTICIPANT;PARTSTAT=ACCEPTED;RSVP=TRUE;CN="Arnold G
 onzales":http://arapahoeteaparty.ning.com/profile/ArnoldGonzales
ATTENDEE;ROLE=REQ-PARTICIPANT;PARTSTAT=ACCEPTED;RSVP=TRUE;CN="Fredrick
  Lindner":http://arapahoeteaparty.ning.com/profile/FredrickDLindner
ATTENDEE;ROLE=REQ-PARTICIPANT;PARTSTAT=ACCEPTED;RSVP=TRUE;CN="Kevin Ke
 ator":http://arapahoeteaparty.ning.com/profile/KevinKeator
ATTENDEE;ROLE=REQ-PARTICIPANT;PARTSTAT=ACCEPTED;RSVP=TRUE;CN="W. Brans
 tetter":http://arapahoeteaparty.ning.com/profile/WBranstetter
ATTENDEE;ROLE=REQ-PARTICIPANT;PARTSTAT=TENTATIVE;RSVP=TRUE;CN="Randy B
  Corporon":http://arapahoeteaparty.ning.com/profile/RandyBCorporon
ATTENDEE;ROLE=REQ-PARTICIPANT;PARTSTAT=TENTATIVE;RSVP=TRUE;CN="Maclyn 
 Stringer":http://arapahoeteaparty.ning.com/profile/MaclynStringer
END:VEVENT
END:VCALENDAR
