BEGIN:VCALENDAR
PRODID:NingEventWidget-v1
VERSION:2.0
METHOD:PUBLISH
BEGIN:VEVENT
UID:3186561:Event:48188
DTSTAMP:20210313T181842Z
SUMMARY:Meeting with Sen. Morgan Carroll & Nancy Todd and Reps. Su Ryd
 en & Rhonda Fields
DESCRIPTION:Posted on Senator Morgan Carroll's web site is this meetin
 g scheduled with Senator Todd, Rep. Su Ryden, and Rep. Rhonda Fields.Â
   This is an evening event and seems to cover much of Aurora (and part
  of Denver?).\nÂ \nhttp://www.senmorgancarroll.com/\nÂ \nTake a friend
  and find out what the Colorado legislators are working on.Â  I suspec
 t it is all good for someone.\nÂ \nMEETINGS WITH MORGAN, SU, RHONDA & 
 NANCY THURSDAY, NOV 217:00 - 8:30PMCommunity College of Aurora16000 E 
 Centretech Pkwy3rd Thursday Every Month\nÂ \nÂ \n\nFor more informatio
 n visit http://arapahoeteaparty.ning.com/events/meeting-with-sen-morga
 n-carroll-nancy-todd-and-reps-su-ryden-rhon
DTSTART:20131122T020000Z
DTEND:20131122T033000Z
CATEGORIES:townhall
LOCATION:Community College of Aurora
WEBSITE:http://www.senmorgancarroll.com/
URL:http://www.senmorgancarroll.com/
CONTACT:
ORGANIZER:[posted by W. Branstetter]
ATTACH;FMTTYPE="image/jpeg":
ATTENDEE;ROLE=REQ-PARTICIPANT;PARTSTAT=TENTATIVE;RSVP=TRUE;CN="W. Bran
 stetter":http://arapahoeteaparty.ning.com/profile/WBranstetter
END:VEVENT
END:VCALENDAR
