BEGIN:VCALENDAR
PRODID:NingEventWidget-v1
VERSION:2.0
METHOD:PUBLISH
BEGIN:VEVENT
UID:3186561:Event:44365
DTSTAMP:20210313T182935Z
SUMMARY:Meeting with Sen. Morgan Carroll and Nancy Todd and other legi
 slators
DESCRIPTION:On state senator Morgan Carroll's web page there is an eve
 nt posted that is listed as \"MEETINGS WITH MORGAN, SU, RHONDA & NANCY
 \" that I believe is for senators Carroll and Todd and representatives
  SU Ryden and Rhonda Fields.  If you have time on this date please at
 tend their meeting and hear what they have to say firsthand.  Perhaps
  even get your questions answered.\n \nhttp://www.senmorgancarroll.co
 m/\n\nTHURSDAY, MARCH 21, 2013 7:00 - 8:30PM Community College of Aur
 ora 16000 E Centretech Pkwy 3rd Thursday Every Month\nTopic:  SCHOOL 
 FINANCE\n\n\n\nFor more information visit http://arapahoeteaparty.ning
 .com/events/meeting-with-sen-morgan-carroll-and-nancy-todd-and-other
DTSTART:20130322T010000Z
DTEND:20130322T023000Z
CATEGORIES:meeting
LOCATION:Community College of Aurora
WEBSITE:http://www.senmorgancarroll.com/
URL:http://www.senmorgancarroll.com/
CONTACT:
ORGANIZER:Senator Morgan Carroll [posted by W. Branstetter]
ATTACH;FMTTYPE="image/jpeg":
ATTENDEE;ROLE=REQ-PARTICIPANT;PARTSTAT=TENTATIVE;RSVP=TRUE;CN="W. Bran
 stetter":http://arapahoeteaparty.ning.com/profile/WBranstetter
END:VEVENT
END:VCALENDAR
