BEGIN:VCALENDAR
PRODID:NingEventWidget-v1
VERSION:2.0
METHOD:PUBLISH
BEGIN:VEVENT
UID:3186561:Event:42191
DTSTAMP:20210313T172646Z
SUMMARY:Meeting with Sen. Morgan Carroll and Nancy Todd and other legi
 slators
DESCRIPTION:On state senator Morgan Carroll's web page there is an eve
 nt posted that is listed as \"MEETINGS WITH MORGAN, SU, RHONDA & NANCY
 \" that I believe is for senators Carroll and Todd and representatives
  SU Ryden and Rhonda Fields.  If you have time on this date please at
 tend their meeting and hear what they have to say firsthand.  Perhaps
  even get your questions answered.\n \nhttp://www.senmorgancarroll.co
 m/\n\nTHURSDAY, FEBRUARY 21 7:00 - 8:30PM Community College of Aurora 
 16000 E Centretech Pkwy 3rd Thursday Every Month\n\n\n\n\nFor more inf
 ormation visit http://arapahoeteaparty.ning.com/events/meeting-with-se
 n-morgan-carroll-and-nancy-todd-and-other-legislat
DTSTART:20130222T020000Z
DTEND:20130222T033000Z
CATEGORIES:meeting
LOCATION:Community College of Aurora
WEBSITE:
URL:
CONTACT:
ORGANIZER:Senator Morgan Carroll [posted by W. Branstetter]
ATTACH;FMTTYPE="image/jpeg":
ATTENDEE;ROLE=REQ-PARTICIPANT;PARTSTAT=ACCEPTED;RSVP=TRUE;CN="Sue Bosi
 er":http://arapahoeteaparty.ning.com/profile/SueBosier
ATTENDEE;ROLE=REQ-PARTICIPANT;PARTSTAT=TENTATIVE;RSVP=TRUE;CN="W. Bran
 stetter":http://arapahoeteaparty.ning.com/profile/WBranstetter
END:VEVENT
END:VCALENDAR
