BEGIN:VCALENDAR
PRODID:NingEventWidget-v1
VERSION:2.0
METHOD:PUBLISH
BEGIN:VEVENT
UID:3186561:Event:47604
DTSTAMP:20210313T174948Z
SUMMARY:Meeting with Sen. Morgan Carroll and Nancy Todd and other legi
 slators
DESCRIPTION:Senator Morgan Carroll tweet:\n \nSen Morgan Carroll  
   ‏@MorganLCarroll                26m       \
 nTOWNHALL Thrs. Sept. 19, 7-8:30PM Comm College Aurora Am 66 Ed Fundin
 g Measure on Nov 2013 ballot. Come find out more! All welcome! #coleg\
 n \n***************\nTranslation:  Topic will be the Amendment 66 Ed
 ucation Funding on the November ballot\n \n***************\n \nThis 
 should be good for \"information\", \"propaganda\", or \"entertainment
 \"--pick your favorite and attend.\n \n\nThe web page there is an eve
 nt posted that is listed as \"MEETINGS WITH MORGAN, SU, RHONDA & NANCY
 \" that I believe is for senators Carroll and Todd and representatives
  SU Ryden and Rhonda Fields.  If you have time on this date please at
 tend their meeting and hear what they have to say firsthand.  Perhaps
  even get your questions answered.\n \nhttp://www.senmorgancarroll.co
 m/\n\nTHURSDAY, September 19, 2013 7:00 - 8:30PM Community College of
  Aurora 16000 E Centretech Pkwy 3rd Thursday Every Month\n Topic:  SC
 HOOL FINANCE\n\n\n\nFor more information visit http://arapahoeteaparty
 .ning.com/events/meeting-with-sen-morgan-carroll-and-nancy-todd-and-ot
 her-1
DTSTART:20130920T010000Z
DTEND:20130920T023000Z
CATEGORIES:townhall
LOCATION:Community College of Aurora
WEBSITE:http://www.senmorgancarroll.com/
URL:http://www.senmorgancarroll.com/
CONTACT:
ORGANIZER:Senator Morgan Carroll [posted by W. Branstetter]
ATTACH;FMTTYPE="image/jpeg":
ATTENDEE;ROLE=REQ-PARTICIPANT;PARTSTAT=TENTATIVE;RSVP=TRUE;CN="W. Bran
 stetter":http://arapahoeteaparty.ning.com/profile/WBranstetter
END:VEVENT
END:VCALENDAR
