BEGIN:VCALENDAR
PRODID:NingEventWidget-v1
VERSION:2.0
METHOD:PUBLISH
BEGIN:VEVENT
UID:3186561:Event:48619
DTSTAMP:20210313T174812Z
SUMMARY:Meeting of West Arapahoe Republican Forum
DESCRIPTION:Lori Horn writes:\n\n\"For those that miss R Block Party M
 eetings, I would invite you to try a WARF meeting or two. Lot of the s
 ame ideas and they need our support. Lot's happening with this group i
 ncluding taking a look at evening meetings!WEST ARAPAHOE REPUBLICAN FO
 RUMGAME ON! \"He was elected to be Governor, not State Bartender!\"Ge
 orge Brauchler, our District Attorney in the 18th Judicial DistrictSat
 urday, January 18, 2014, 9:00 amLittleton City Council Chambers 2255 W
  Berry Ave, LittletonIt has been the best line so far in the 2014 camp
 aign for Governor. George Brauchler has since decided not to run, but 
 he has some unique insights into the issues that will be at play in th
 e election.Please come hear what George has to say about the upcoming 
 elections. All the Republican candidates for Governor have been invite
 d to attend and mingle with the crowd. Some have indicated they will b
 e there.\nBring a friend!\nThis will also be WARF's first meeting of t
 he new year and it is time for annual dues. The Board has decided to k
 eep dues at the current level:$15 for an individual   $25 for a famil
 y\"\n\nhttps://www.facebook.com/WestArapRepubs\n\n\nMeetings are the t
 hird Saturday of the month at \"9:15 a.m.\" with coffee and donuts at 
 Littleton City Council Chambers.\n\n\nFor more information visit http:
 //arapahoeteaparty.ning.com/events/meeting-of-west-arapahoe-republican
 -forum
DTSTART:20140118T160000Z
DTEND:20140118T180000Z
CATEGORIES:"monthly meeting"
LOCATION:Littleton City Council Chambers
WEBSITE:https://www.facebook.com/WestArapRepubs
URL:https://www.facebook.com/WestArapRepubs
CONTACT:
ORGANIZER:WARF [posted by W. Branstetter]
ATTACH;FMTTYPE="image/jpeg":
END:VEVENT
END:VCALENDAR
