BEGIN:VCALENDAR
PRODID:NingEventWidget-v1
VERSION:2.0
METHOD:PUBLISH
BEGIN:VEVENT
UID:3186561:Event:58749
DTSTAMP:20210313T171029Z
SUMMARY:Meeting of Jewish Republicans of Colorado:  Speaker Andy Peth 
 with The Party of Choice
DESCRIPTION:Meeting:  Jewish Republicans of Colorado\nWednesday, Sept
 ember 21, 2016 at 6:30 p.m.\nEast Side Kosher Deli499 S Elm Street, De
 nver, CO\nPlease bring a family member or friend and share this invita
 tion!Admission FREE! All are welcome!(A minimum $6.00 food or drink or
 der keeps the location available to us)\n\nJim Lockard, with Donald Tr
 ump's campaign, will update on the campaign and will bring a special, 
 exciting young guest with him!\n\nAndy Peth founded THE PARTY OF CHOI
 CE...Control your own life, not the lives of others.  Topic is \"Sell
 ing Liberty: How can we make a fast impact with those around us for 20
 16?\"  In this topic, we show how to dramatically change our impact w
 ith people we know - not in months and years, but minutes and seconds.
 \n\n\n\nFor more information visit http://arapahoeteaparty.ning.com/ev
 ents/meeting-of-jewish-republicans-of-colorado-speaker-andy-peth-with-
DTSTART:20160922T003000Z
DTEND:20160922T023000Z
CATEGORIES:meeting
LOCATION:East Side Kosher Deli
WEBSITE:http://www.j-gop.com/
URL:http://www.j-gop.com/
CONTACT:
ORGANIZER:Jewish Republicans of Colorado [posted by W. Branstetter]
ATTACH;FMTTYPE="image/jpeg":
END:VEVENT
END:VCALENDAR
