BEGIN:VCALENDAR
PRODID:NingEventWidget-v1
VERSION:2.0
METHOD:PUBLISH
BEGIN:VEVENT
UID:3186561:Event:28265
DTSTAMP:20210313T172950Z
SUMMARY:Meeting of Citizens for Responsible Aurora Government
DESCRIPTION:A local group called Citizens for Responsible Aurora Gover
 nment has been working to be more informed about what is going on with
  the finances and other public issues.  This groups meets the 4th Wed
 nesday of the month at the Doubletree Inn near I-225 and Iliff Avenue.
 \n \nThe group has been doing FOIA (Freedom of Information Act) reque
 sts and making information available.  They have prepared presentatio
 ns for city council meetings using the council's filmed recordings and
  statements for later arguments.\n \nIf you are interested in learnin
 g how to do records requests, messaging, presentations, and be active 
 in Aurora (or other local governance), check this group out.\n \nhttp
 ://cragaurora.com/\n \n \nmap:\nhttp://doubletree1.hilton.com/en_US/
 dt/hotel/DENITDT-DoubleTree-by-Hilton-Hotel-Denver-Aurora-Colorado/dir
 ections.do#localmap\n \n***************************\n \nSome items f
 rom the news:\n \ntoo effective?\nhttp://denverdirect.blogspot.com/20
 11/07/citizens-for-responsible-aurora.html\n \nred light cameras:\nht
 tp://banthecams.org/Red-Light-Camera-News/press-release-from-citizens-
 for-responsible-aurora-government-crag-on-rlc-investigation.html\n \n
 no to corporate welfare in Aurora:\nhttp://backboneamerica.net/2010/03
 /05/no-to-corporate-welfare-in-aurora/\n \nfounding member in race fo
 r mayor of Aurora:\nhttp://www.denverpost.com/breakingnews/ci_18964224
 \n \nhttp://aurorarealtors.org/stories/2011/debate.html\n \nhttp://w
 ww.aurorasentinel.com/hp_local_politics/article_96ad7d96-be20-11e0-957
 8-001cc4c03286.html\n \nsee also a number of YouTube.com videos\n \n
 *****************************\nAt the September meeting CRAG members d
 ecided that the October meeting would be their last until January to a
 void scheduling conflicts with the holidays.\n************************
 *****\n \nIt is time to get active and involved somewhere.  There ar
 e lots of groups and lots of interests.\n \n\nFor more information vi
 sit http://arapahoeteaparty.ning.com/events/meeting-of-citizens-for-re
 sponsible-aurora-government-1
DTSTART:20111027T010000Z
DTEND:20111027T030000Z
CATEGORIES:meeting
LOCATION:Doubletree Inn in Aurora, CO
WEBSITE:http://cragaurora.com/
URL:http://cragaurora.com/
CONTACT:contact CRAG at (720) 295-8402
ORGANIZER:posted by W. Branstetter
ATTACH;FMTTYPE="image/jpeg":
ATTENDEE;ROLE=REQ-PARTICIPANT;PARTSTAT=TENTATIVE;RSVP=TRUE;CN="W. Bran
 stetter":http://arapahoeteaparty.ning.com/profile/WBranstetter
END:VEVENT
END:VCALENDAR
