BEGIN:VCALENDAR
PRODID:NingEventWidget-v1
VERSION:2.0
METHOD:PUBLISH
BEGIN:VEVENT
UID:3186561:Event:51924
DTSTAMP:20210313T171617Z
SUMMARY:Meeting of ACT for America
DESCRIPTION:Possible interest from e-mail from Joe:\n\nOctober meeting
  of\nACT for America\nSouth East Denver Chapter 1609\nNew Life ChurchÂ
  \n17690 East Iliff AvenueÂ \n\nAurora, Colorado\n\nMonday, October 6,
  2014 at 6:30-8:00 p.m.\n\nMeeting Agenda:\nISIS Vs US coalition\nThe 
 threat of ISIS on US\n\n\nNational web site:\nhttp://www.actforamerica
 .org/\n\n\n\n\n\nFor more information visit http://arapahoeteaparty.ni
 ng.com/events/meeting-of-act-for-america
DTSTART:20141007T003000Z
DTEND:20141007T020000Z
CATEGORIES:meeting
LOCATION:New Life Church
WEBSITE:
URL:
CONTACT:
ORGANIZER:[posted by W. Branstetter]
ATTACH;FMTTYPE="image/jpeg":
END:VEVENT
END:VCALENDAR
