BEGIN:VCALENDAR
PRODID:NingEventWidget-v1
VERSION:2.0
METHOD:PUBLISH
BEGIN:VEVENT
UID:3186561:Event:53645
DTSTAMP:20210313T171617Z
SUMMARY:Meeting of ACT for America
DESCRIPTION:Possible interest from e-mail from Joe:\n\nMarch 2015 meet
 ing of\nACT for America\nSouth East Denver Chapter 1609\nNew Life Chur
 ch \n17690 East Iliff Avenue \nAurora, Colorado\nhttp://g.co/maps/f6
 t6hhttp://g.co/maps/f6t6h\n\nMonday, March 2, 2015 at 6:30-8:00 p.m.\n
 \nMeeting Agenda:\nNavigating ACT resources\n   A real time walks th
 rough the ACT education resource tool\nNews at Home and Around the Wor
 ld Audience opportunity to share relevant news articles they have come
  across in the last 30 days. Must have source reference\n\nPresentatio
 n :Nuclear Iran and the danger of other Middle Eastern countriesDemand
 ing nuclear weapons toohttp://www.ynetnews.com/articles/0,7340,L-46312
 68,00.html\n\nNational web site:\nhttp://www.actforamerica.org/\n\n\n\
 n\n\nFor more information visit http://arapahoeteaparty.ning.com/event
 s/meeting-of-act-for-america-1
DTSTART:20150303T013000Z
DTEND:20150303T030000Z
CATEGORIES:meeting
LOCATION:New Life Church
WEBSITE:
URL:
CONTACT:
ORGANIZER:[posted by W. Branstetter]
ATTACH;FMTTYPE="image/jpeg":
END:VEVENT
END:VCALENDAR
