BEGIN:VCALENDAR
PRODID:NingEventWidget-v1
VERSION:2.0
METHOD:PUBLISH
BEGIN:VEVENT
UID:3186561:Event:53065
DTSTAMP:20210313T172440Z
SUMMARY:Meeting (if needed):  Standards & Assessment Task Force, Color
 ado Dept. of Education
DESCRIPTION:From Colorado House Bill 14-1202, the task force is review
 ing information and comments.  Be sure to check the web page at:\n\nh
 ttp://www.cde.state.co.us/cdedepcom/taskforce\n\nMonday, December 15, 
 2014 - Monthly Task Force Meeting\nLocation: Jeffco Schools Ed Center 
 - 1829 Denver West Drive, Building 27, Golden - 5th floor, Board Room
 , \nTime Change: Please note this meeting will take place from 8:00 a
 m - 4:00 pm\n\nTuesday, December 16, 2014 - Monthly Task Force Meeting
  (If needed)\nLocation: Jeffco Schools Ed Center - 1829 Denver West Dr
 ive, Building 27, Golden - 5th floor, Board Room\nTime Change: Please 
 note this meeting will take place from 8:00 am - 12:00 pm\n\nMonday, J
 anuary 12, 2015 - Monthly Task Force Meeting\nLocation: Cherry Creek S
 chool District's Instructional Support Facility, 5416 S. Riviera Way, 
 Centennial\n\n- See more at: http://www.cde.state.co.us/cdedepcom/task
 force#sthash.JAXTdziU.dpuf\n\n\n\nFor more information visit http://ar
 apahoeteaparty.ning.com/events/meeting-if-needed-standards-assessment-
 task-force-colorado-dept-o
DTSTART:20141216T150000Z
DTEND:20141216T190000Z
CATEGORIES:meeting
LOCATION:\"Jeffco Schools Education Center\"
WEBSITE:http://www.cde.state.co.us/cdedepcom/taskforce
URL:http://www.cde.state.co.us/cdedepcom/taskforce
CONTACT:
ORGANIZER:posted by W. Branstetter
ATTACH;FMTTYPE="image/jpeg":
ATTENDEE;ROLE=REQ-PARTICIPANT;PARTSTAT=ACCEPTED;RSVP=TRUE;CN="W. Brans
 tetter":http://arapahoeteaparty.ning.com/profile/WBranstetter
END:VEVENT
END:VCALENDAR
