BEGIN:VCALENDAR
PRODID:NingEventWidget-v1
VERSION:2.0
METHOD:PUBLISH
BEGIN:VEVENT
UID:3186561:Event:53904
DTSTAMP:20210313T175154Z
SUMMARY:Meeting:  Evergreen Tea Party with ATP Chairman and KLZ 560 Ho
 st Randy Corporon
DESCRIPTION:\nMonday, April 13, 2015 at 6:00 p.m./6:30 p.m.\nThe Barn 
 at Evergreen Memorial Park\n26624 N. Turkey Creek Rd.\nEvergreen, CO 8
 0439\n\n\nSpeaker:\n\nRandy B. Corporon, host of \"Wake Up! with Randy
  B. Corporon\" on KLZ 560 radio (5-8 a.m.) and chairman of Arapahoe Co
 unty Tea Party\n\nEvergreen Tea Party web site:\n\nhttp://www.evergree
 nteaparty.com/home/\n\n\n\n\nFor more information visit http://arapaho
 eteaparty.ning.com/events/meeting-evergreen-tea-party-with-klz-560-hos
 t-randy-corporon
DTSTART:20150414T000000Z
DTEND:20150414T023000Z
CATEGORIES:meeting
LOCATION:Evergreen Memorial Park Barn
WEBSITE:http://www.evergreenteaparty.com/home/
URL:http://www.evergreenteaparty.com/home/
CONTACT:
ORGANIZER:posted by W. Branstetter
ATTACH;FMTTYPE="image/jpeg":
ATTENDEE;ROLE=REQ-PARTICIPANT;PARTSTAT=ACCEPTED;RSVP=TRUE;CN="Randy B 
 Corporon":http://arapahoeteaparty.ning.com/profile/RandyBCorporon
END:VEVENT
END:VCALENDAR
