BEGIN:VCALENDAR
PRODID:NingEventWidget-v1
VERSION:2.0
METHOD:PUBLISH
BEGIN:VEVENT
UID:3186561:Event:55879
DTSTAMP:20210313T182954Z
SUMMARY:Meeting Arapahoe Tea Party:  LOCATION CHANGED
DESCRIPTION:The ATP meeting tonight will be held at the Innovation Pav
 ilion which is directly across the street from the South Metro Fire Re
 scue where we generally meet. Enter the main entrance and turn right. 
 Cozy quarters.\n9200 E. Mineral AvenueCentennial, CO 80112\n\n\nWith a
  new year there is much to cover including dates for coming events lik
 e precinct caucus in Colorado.  Note that you must have registered by
  January 4, 2016, as a Republican or Democratic party member to partic
 ipate in caucus.\n\nThere is more to cover for other events and news. 
  Be sure to attend the January meeting to get informed.\n\nAs with al
 l of the meetings, come early for a good seat.\n\nOur meetings attract
  a crowd, so come early! \n SEE CHANGE ABOVE\nTuesday, January 12, 2
 015 6:30-8:30 pm South Metro Fire Rescue 9195 E. Mineral Ave. Centenni
 al, CO 80112\n \nEvent announcement on Facebook:\n \n\n \n \nIf yo
 u would be interested in helping with a committee or two that might he
 lp make meetings and events run smoother, would you please post a brie
 f comment with this announcement.\n \nIf you are not connected via Fa
 cebook, please find the group \"Arapahoe Tea Party\" for news items a
 nd events:\nhttps://www.facebook.com/groups/arapahoeteaparty\n \n****
 *********************\n\nNOTE:  Please do not contact the building ma
 nagement for information about this event.  The group sponsoring the 
 event has contact information at the link provided above.\n\n*********
 ***************\n\nReminder from April 2015 meeting of Darryl Glenn, c
 andidate for U.S Senator, currently El Paso County Commissioner\n\nhtt
 p://www.electdarrylglenn.com/\n\nhttp://www.csindy.com/IndyBlog/archiv
 es/2015/01/15/darryl-glenn-will-run-against-sen-bennet\n\nhttp://gazet
 te.com/glenn-early-announcement-for-u.s.-senate-run-shows-he-is-very-s
 erious/article/1544655\n\n\n\nFor more information visit http://arapah
 oeteaparty.ning.com/events/meeting-arapahoe-tea-party-warming-up-for-c
 aucus-and-more
DTSTART:20160113T013000Z
DTEND:20160113T033000Z
CATEGORIES:"monthly meeting"
LOCATION:South Metro Fire Rescue Authority; Mineral Headquarters, Boar
 d Room
WEBSITE:https://maps.google.com/maps?oe=utf-8&client=firefox-a&ie=UTF-
 8&q=south+metro+fire+rescue+authority+mineral+headquarters&fb=1&gl=us&
 hq=south+metro+fire+rescue+authority+mineral+headquarters&cid=0,0,9189
 900575761474566&ei=wsvZUfvrHoWQyQHR5oGQCg&ved=0CIcBEPwSMAA
URL:https://maps.google.com/maps?oe=utf-8&client=firefox-a&ie=UTF-8&q=
 south+metro+fire+rescue+authority+mineral+headquarters&fb=1&gl=us&hq=s
 outh+metro+fire+rescue+authority+mineral+headquarters&cid=0,0,91899005
 75761474566&ei=wsvZUfvrHoWQyQHR5oGQCg&ved=0CIcBEPwSMAA
CONTACT:
ORGANIZER:Regina Thomson and Randy Corporon [posted by W. Branstetter]
ATTACH;FMTTYPE="image/jpeg":
ATTENDEE;ROLE=REQ-PARTICIPANT;PARTSTAT=ACCEPTED;RSVP=TRUE;CN="W. Brans
 tetter":http://arapahoeteaparty.ning.com/profile/WBranstetter
ATTENDEE;ROLE=REQ-PARTICIPANT;PARTSTAT=ACCEPTED;RSVP=TRUE;CN="Hannah B
 ushnell":http://arapahoeteaparty.ning.com/profile/HannahBushnell
END:VEVENT
END:VCALENDAR
