BEGIN:VCALENDAR
PRODID:NingEventWidget-v1
VERSION:2.0
METHOD:PUBLISH
BEGIN:VEVENT
UID:3186561:Event:55558
DTSTAMP:20210313T175456Z
SUMMARY:Meeting Arapahoe Tea Party:  Showing \"Agenda 2: Masters of De
 ceit\" Documentary
DESCRIPTION:Filmmaker Curtis Bowers has a new documentary \"Agenda 2: 
  Masters of Deceit\" available now.  This follows the original docum
 entary \"Agenda:  Grinding America Down\" produced in 2009-2010--a mu
 st see if you have not already.  The trailer and related information 
 for the new movie (and original) can be seen at:\n\nhttp://www.agendad
 ocumentary.com/\n\nSee the new movie Tuesday, December 8 (starts at 6:
 45 p.m.)\n\n\nAs with all of the meetings, come early for a good seat.
 \n\nOur meetings attract a crowd, so come early!  Movie starts at 6:4
 5 p.m.\n \nTuesday, December 8, 2015 6:30-8:30 pm South Metro Fire Re
 scue 9195 E. Mineral Ave. Centennial, CO 80112\n \nEvent announcement
  on Facebook:\nhttps://www.facebook.com/events/1514276405537846/\n\n 
 \n \nIf you would be interested in helping with a committee or two th
 at might help make meetings and events run smoother, would you please 
 post a brief comment with this announcement.\n \nIf you are not conne
 cted via Facebook, please find the group \"Arapahoe Tea Party\" for n
 ews items and events:\nhttps://www.facebook.com/groups/arapahoeteapart
 y\n \n*************************\n\nNOTE:  Please do not contact the 
 building management for information about this event.  The group spon
 soring the event has contact information at the link provided above.\n
 \n************************\n\nReminder from April 2015 meeting of Darr
 yl Glenn, candidate for U.S Senator, currently El Paso County Commissi
 oner\n\nhttp://www.electdarrylglenn.com/\n\nhttp://www.csindy.com/Indy
 Blog/archives/2015/01/15/darryl-glenn-will-run-against-sen-bennet\n\nh
 ttp://gazette.com/glenn-early-announcement-for-u.s.-senate-run-shows-h
 e-is-very-serious/article/1544655\n\n\n\nFor more information visit ht
 tp://arapahoeteaparty.ning.com/events/meeting-arapahoe-tea-party-showi
 ng-agenda-2-masters-of-deceit-doc
DTSTART:20151209T013000Z
DTEND:20151209T033000Z
CATEGORIES:"monthly meeting"
LOCATION:South Metro Fire Rescue Authority; Mineral Headquarters, Boar
 d Room
WEBSITE:https://maps.google.com/maps?oe=utf-8&client=firefox-a&ie=UTF-
 8&q=south+metro+fire+rescue+authority+mineral+headquarters&fb=1&gl=us&
 hq=south+metro+fire+rescue+authority+mineral+headquarters&cid=0,0,9189
 900575761474566&ei=wsvZUfvrHoWQyQHR5oGQCg&ved=0CIcBEPwSMAA
URL:https://maps.google.com/maps?oe=utf-8&client=firefox-a&ie=UTF-8&q=
 south+metro+fire+rescue+authority+mineral+headquarters&fb=1&gl=us&hq=s
 outh+metro+fire+rescue+authority+mineral+headquarters&cid=0,0,91899005
 75761474566&ei=wsvZUfvrHoWQyQHR5oGQCg&ved=0CIcBEPwSMAA
CONTACT:
ORGANIZER:Regina Thomson and Randy Corporon [posted by W. Branstetter]
ATTACH;FMTTYPE="image/jpeg":
ATTENDEE;ROLE=REQ-PARTICIPANT;PARTSTAT=ACCEPTED;RSVP=TRUE;CN="Scott Br
 own":http://arapahoeteaparty.ning.com/profile/ScottBrown
ATTENDEE;ROLE=REQ-PARTICIPANT;PARTSTAT=ACCEPTED;RSVP=TRUE;CN="W. Brans
 tetter":http://arapahoeteaparty.ning.com/profile/WBranstetter
END:VEVENT
END:VCALENDAR
