BEGIN:VCALENDAR
PRODID:NingEventWidget-v1
VERSION:2.0
METHOD:PUBLISH
BEGIN:VEVENT
UID:3186561:Event:56470
DTSTAMP:20210313T181528Z
SUMMARY:Meeting Arapahoe Tea Party:  Reviewing Caucus and other news a
 nd issues
DESCRIPTION:After the Colorado caucus there is so much to talk about a
 nd many issues that will be at the top of discussion in coming months.
   So many people to meet from lists of candidates who will ask for he
 lp.\n\nIf you learn of townhall meetings or candidate forums, please s
 pread the word.\n\nAs with all of the meetings, come early for a good 
 seat.\n\nOur meetings attract a crowd, so come early!  \n \nTuesday,
  March 8, 2016 6:30-8:30 pm South Metro Fire Rescue 9195 E. Mineral Av
 e. Centennial, CO 80112\n\nNOTE: Please do not call South Metro Fire R
 escue's office for information, the board room is reserved for many gr
 oups' purposes without details of the events.\n \nEvent announcement 
 on Facebook:\n \n\n \n \nIf you would be interested in helping with
  a committee or two that might help make meetings and events run smoot
 her, would you please post a brief comment with this announcement.\n 
 \nIf you are not connected via Facebook, please find the group \"Arapa
 hoe Tea Party\" for news items and events:\nhttps://www.facebook.com/
 groups/arapahoeteaparty\n \n*************************\n\nNOTE:  Plea
 se do not contact the building management for information about this e
 vent.  The group sponsoring the event has contact information at the 
 link provided above.\n\n************************\n\nReminder from Apri
 l 2015 meeting of Darryl Glenn, candidate for U.S Senator, currently E
 l Paso County Commissioner\n\nhttp://www.electdarrylglenn.com/\n\nhttp
 ://www.csindy.com/IndyBlog/archives/2015/01/15/darryl-glenn-will-run-a
 gainst-sen-bennet\n\nhttp://gazette.com/glenn-early-announcement-for-u
 .s.-senate-run-shows-he-is-very-serious/article/1544655\n\n\n\nFor mor
 e information visit http://arapahoeteaparty.ning.com/events/meeting-ar
 apahoe-tea-party-reviewing-caucus-and-other-news-and-is
DTSTART:20160309T013000Z
DTEND:20160309T033000Z
CATEGORIES:"monthly meeting"
LOCATION:South Metro Fire Rescue Authority; Mineral Headquarters, Boar
 d Room
WEBSITE:https://maps.google.com/maps?oe=utf-8&client=firefox-a&ie=UTF-
 8&q=south+metro+fire+rescue+authority+mineral+headquarters&fb=1&gl=us&
 hq=south+metro+fire+rescue+authority+mineral+headquarters&cid=0,0,9189
 900575761474566&ei=wsvZUfvrHoWQyQHR5oGQCg&ved=0CIcBEPwSMAA
URL:https://maps.google.com/maps?oe=utf-8&client=firefox-a&ie=UTF-8&q=
 south+metro+fire+rescue+authority+mineral+headquarters&fb=1&gl=us&hq=s
 outh+metro+fire+rescue+authority+mineral+headquarters&cid=0,0,91899005
 75761474566&ei=wsvZUfvrHoWQyQHR5oGQCg&ved=0CIcBEPwSMAA
CONTACT:
ORGANIZER:Regina Thomson and Randy Corporon [posted by W. Branstetter]
ATTACH;FMTTYPE="image/jpeg":
ATTENDEE;ROLE=REQ-PARTICIPANT;PARTSTAT=ACCEPTED;RSVP=TRUE;CN="W. Brans
 tetter":http://arapahoeteaparty.ning.com/profile/WBranstetter
END:VEVENT
END:VCALENDAR
