BEGIN:VCALENDAR
PRODID:NingEventWidget-v1
VERSION:2.0
METHOD:PUBLISH
BEGIN:VEVENT
UID:3186561:Event:55109
DTSTAMP:20210313T182603Z
SUMMARY:Meeting Arapahoe Tea Party [program to be announced]
DESCRIPTION:For news of this event, listen to KLZ 560 radio.\n\nJoin t
 he Arapahoe Tea Party and the Colorado Tea Party Patriots for our Octo
 ber 13, 2015, meeting.  [Note that the program remains to be announce
 d.]  Meeting topics are always informative--at times lively. \n\nAlw
 ays so much to talk about, so come for information.\n\n\n***********\n
 \n\n\n*************\n\nAs with all of the meetings, come early for a g
 ood seat.  There may be additions to the program.\n\nOur meetings hav
 e been standing room only, so come early!\n \nTuesday, October 13, 20
 15 6:30-8:30 pm South Metro Fire Rescue 9195 E. Mineral Ave. Centennia
 l, CO 80112\n \nEvent announcement on Facebook:\n\n \n \nIf you wou
 ld be interested in helping with a committee or two that might help ma
 ke meetings and events run smoother, would you please post a brief com
 ment with this announcement.\n \nIf you are not connected via Faceboo
 k, please find the group \"Arapahoe Tea Party\" for news items and ev
 ents:\nhttps://www.facebook.com/groups/arapahoeteaparty\n \n*********
 ****************\n\nNOTE:  Please do not contact the building managem
 ent for information about this event.  The group sponsoring the event
  has contact information at the link provided above.\n\n**************
 **********\n\nReminder from April 2015 meeting of Darryl Glenn, candid
 ate for U.S Senator, currently El Paso County Commissioner\n\nhttp://w
 ww.electdarrylglenn.com/\n\nhttp://www.csindy.com/IndyBlog/archives/20
 15/01/15/darryl-glenn-will-run-against-sen-bennet\n\nhttp://gazette.co
 m/glenn-early-announcement-for-u.s.-senate-run-shows-he-is-very-seriou
 s/article/1544655\n\n\n\nFor more information visit http://arapahoetea
 party.ning.com/events/meeting-arapahoe-tea-party-program-to-be-announc
 ed
DTSTART:20151014T003000Z
DTEND:20151014T023000Z
CATEGORIES:"monthly meeting"
LOCATION:South Metro Fire Rescue Authority; Mineral Headquarters, Boar
 d Room
WEBSITE:https://maps.google.com/maps?oe=utf-8&client=firefox-a&ie=UTF-
 8&q=south+metro+fire+rescue+authority+mineral+headquarters&fb=1&gl=us&
 hq=south+metro+fire+rescue+authority+mineral+headquarters&cid=0,0,9189
 900575761474566&ei=wsvZUfvrHoWQyQHR5oGQCg&ved=0CIcBEPwSMAA
URL:https://maps.google.com/maps?oe=utf-8&client=firefox-a&ie=UTF-8&q=
 south+metro+fire+rescue+authority+mineral+headquarters&fb=1&gl=us&hq=s
 outh+metro+fire+rescue+authority+mineral+headquarters&cid=0,0,91899005
 75761474566&ei=wsvZUfvrHoWQyQHR5oGQCg&ved=0CIcBEPwSMAA
CONTACT:303-885-2550
ORGANIZER:Regina Thomson and Randy Corporon [posted by W. Branstetter]
ATTACH;FMTTYPE="image/jpeg":
ATTENDEE;ROLE=REQ-PARTICIPANT;PARTSTAT=ACCEPTED;RSVP=TRUE;CN="Randy B 
 Corporon":http://arapahoeteaparty.ning.com/profile/RandyBCorporon
ATTENDEE;ROLE=REQ-PARTICIPANT;PARTSTAT=ACCEPTED;RSVP=TRUE;CN="W. Brans
 tetter":http://arapahoeteaparty.ning.com/profile/WBranstetter
END:VEVENT
END:VCALENDAR
