BEGIN:VCALENDAR
PRODID:NingEventWidget-v1
VERSION:2.0
METHOD:PUBLISH
BEGIN:VEVENT
UID:3186561:Event:56275
DTSTAMP:20210313T171950Z
SUMMARY:Meeting Arapahoe Tea Party:  Caucus, Primary, oh--so many thin
 gs to discuss
DESCRIPTION:\nLots to talk about with caucus, NH primary (updates on p
 rogress), candidates, issues, and more including:\n\nPaulo Sabaja will
  join us to talk about County Commissioners and how their actions impa
 ct your taxes and regulation. Kris Cook will bring us up to date on t
 he Convention of States Article V project in Colorado and other states
 .And a first-hand accounting from a tea party member who was in Des Mo
 ines for a rally and the debate last week. \n\n\nAs with all of the m
 eetings, come early for a good seat.\n\nOur meetings attract a crowd, 
 so come early!  \n \nTuesday, February 9, 2016 6:30-8:30 pm South Me
 tro Fire Rescue 9195 E. Mineral Ave. Centennial, CO 80112\n \nEvent a
 nnouncement on Facebook:\nhttps://www.facebook.com/events/167794627581
 8788/\n\n \n \nIf you would be interested in helping with a committe
 e or two that might help make meetings and events run smoother, would 
 you please post a brief comment with this announcement.\n \nIf you ar
 e not connected via Facebook, please find the group \"Arapahoe Tea Par
 ty\" for news items and events:\nhttps://www.facebook.com/groups/arap
 ahoeteaparty\n \n*************************\n\nNOTE:  Please do not c
 ontact the building management for information about this event.  The
  group sponsoring the event has contact information at the link provid
 ed above.\n\n************************\n\nReminder from April 2015 meet
 ing of Darryl Glenn, candidate for U.S Senator, currently El Paso Coun
 ty Commissioner\n\nhttp://www.electdarrylglenn.com/\n\nhttp://www.csin
 dy.com/IndyBlog/archives/2015/01/15/darryl-glenn-will-run-against-sen-
 bennet\n\nhttp://gazette.com/glenn-early-announcement-for-u.s.-senate-
 run-shows-he-is-very-serious/article/1544655\n\n\n\nFor more informati
 on visit http://arapahoeteaparty.ning.com/events/meeting-arapahoe-tea-
 party-caucus-primary-oh-so-many-things-to-di
DTSTART:20160210T013000Z
DTEND:20160210T033000Z
CATEGORIES:"monthly meeting"
LOCATION:South Metro Fire Rescue Authority; Mineral Headquarters, Boar
 d Room
WEBSITE:https://maps.google.com/maps?oe=utf-8&client=firefox-a&ie=UTF-
 8&q=south+metro+fire+rescue+authority+mineral+headquarters&fb=1&gl=us&
 hq=south+metro+fire+rescue+authority+mineral+headquarters&cid=0,0,9189
 900575761474566&ei=wsvZUfvrHoWQyQHR5oGQCg&ved=0CIcBEPwSMAA
URL:https://maps.google.com/maps?oe=utf-8&client=firefox-a&ie=UTF-8&q=
 south+metro+fire+rescue+authority+mineral+headquarters&fb=1&gl=us&hq=s
 outh+metro+fire+rescue+authority+mineral+headquarters&cid=0,0,91899005
 75761474566&ei=wsvZUfvrHoWQyQHR5oGQCg&ved=0CIcBEPwSMAA
CONTACT:
ORGANIZER:Regina Thomson and Randy Corporon [posted by W. Branstetter]
ATTACH;FMTTYPE="image/jpeg":
ATTENDEE;ROLE=REQ-PARTICIPANT;PARTSTAT=ACCEPTED;RSVP=TRUE;CN="W. Brans
 tetter":http://arapahoeteaparty.ning.com/profile/WBranstetter
END:VEVENT
END:VCALENDAR
