BEGIN:VCALENDAR
PRODID:NingEventWidget-v1
VERSION:2.0
METHOD:PUBLISH
BEGIN:VEVENT
UID:3186561:Event:40531
DTSTAMP:20210313T181431Z
SUMMARY:ATP Meeting:  Discussion: National Debt Relief Amendment
DESCRIPTION:Randy Corporon scheduled this a meeting of Arapahoe TEA P
 arty.  Ryan Call will give a summary besides this speaker:\n \nWhen:
   Tuesday, November 13 -- 6:30 - 8:30 p.m.\nWhere: \nSouth Metro Fir
 e Rescue\n9195 E Mineral Ave\nCentennial, CO 80112\n \nGuest:  Curti
 s Olafson\nNational Debt Relief Amendment\nA discussion about taking b
 ack control of federal government spending\nNDRA vs Balanced Budget Am
 endment\nhttp://www.restoringfreedom.org/\n\n \nWhat's on the next ho
 rizon?  A third party is not an option so how do we effect the change
 s that are needed.  Let's get together and talk about it.  Debt and 
 deficit must still be addressed.  The National Debt Relief Amendment 
 is a concise and to-the-point way to do that. \n  \nFacebook group 
 Arapahoe Tea Party.\n\n\n\n\nFor more information visit http://arapaho
 eteaparty.ning.com/events/meeting-a-discussion-of-national-debt-relief
 -amendment
DTSTART:20121114T013000Z
DTEND:20121114T033000Z
CATEGORIES:meeting
LOCATION:South Metro Fire Rescue
WEBSITE:
URL:
CONTACT:
ORGANIZER:posted by W. Branstetter
ATTACH;FMTTYPE="image/jpeg":
ATTENDEE;ROLE=REQ-PARTICIPANT;PARTSTAT=ACCEPTED;RSVP=TRUE;CN="Sally Ba
 nghart":http://arapahoeteaparty.ning.com/profile/SallyBanghart
ATTENDEE;ROLE=REQ-PARTICIPANT;PARTSTAT=ACCEPTED;RSVP=TRUE;CN="Randy B 
 Corporon":http://arapahoeteaparty.ning.com/profile/RandyBCorporon
ATTENDEE;ROLE=REQ-PARTICIPANT;PARTSTAT=ACCEPTED;RSVP=TRUE;CN="Edwin Ne
 al":http://arapahoeteaparty.ning.com/profile/EdwinNeal
ATTENDEE;ROLE=REQ-PARTICIPANT;PARTSTAT=ACCEPTED;RSVP=TRUE;CN="Bruce Ca
 irns Fmr Sen":http://arapahoeteaparty.ning.com/profile/BruceCairnsFmrS
 en
ATTENDEE;ROLE=REQ-PARTICIPANT;PARTSTAT=ACCEPTED;RSVP=TRUE;CN="Denise D
 enny":http://arapahoeteaparty.ning.com/profile/DeniseDenny
ATTENDEE;ROLE=REQ-PARTICIPANT;PARTSTAT=ACCEPTED;RSVP=TRUE;CN="Linda Br
 ake":http://arapahoeteaparty.ning.com/profile/LindaBrake
ATTENDEE;ROLE=REQ-PARTICIPANT;PARTSTAT=ACCEPTED;RSVP=TRUE;CN="W. Brans
 tetter":http://arapahoeteaparty.ning.com/profile/WBranstetter
ATTENDEE;ROLE=REQ-PARTICIPANT;PARTSTAT=TENTATIVE;RSVP=TRUE;CN="Lyle S 
 Hileman":http://arapahoeteaparty.ning.com/profile/LyleSHileman
ATTENDEE;ROLE=REQ-PARTICIPANT;PARTSTAT=TENTATIVE;RSVP=TRUE;CN="Jill M 
 Thompson":http://arapahoeteaparty.ning.com/profile/JillMThompson
END:VEVENT
END:VCALENDAR
