BEGIN:VCALENDAR
PRODID:NingEventWidget-v1
VERSION:2.0
METHOD:PUBLISH
BEGIN:VEVENT
UID:3186561:Event:50165
DTSTAMP:20210313T173549Z
SUMMARY:May Meeting: Arapahoe Tea Party--Hear Candidates for CD-4
DESCRIPTION:Join the Arapahoe Tea Party and the Colorado Tea Party Pat
 riots for our May 13, 2014, meeting.\n\nRandy Corporon has announced o
 n the radio show \"Wake UP with Randy Corporon\" on KLZ 560 radio that
  three candidates from the Congressional District 4 contest (Ken Buck,
  Steve Laffey, and Renfroe(?) have been scheduled.  Of course other c
 andidates may stop in to introduce themselves such as Michael Fields (
 HD-37).\n\n Bring your questions, your perspective and your comments. 
 Our meetings have been standing room only, so come early!\n \nTuesday
 , May 13, 2014 6:30-8:30 pm South Metro Fire Rescue 9195 E. Mineral Av
 e. Centennial, CO 80112\n \nWatch for other announcements from Randy 
 Corporon regarding speakers or topics.  Listen to KLZ 560 radio.\n\nE
 vent announcement on Facebook:\nhttps://www.facebook.com/events/490866
 581040120/\n \n \nIf you would be interested in helping with a commi
 ttee or two that might help make meetings and events run smoother, wou
 ld you please post a brief comment with this announcement.\n \nIf you
  are not connected via Facebook, please find the group \"Arapahoe Tea 
 Party\" \nhttps://www.facebook.com/groups/arapahoeteaparty\n \n*****
 ********************\n\nNOTE:  Please do not contact the building man
 agement for information about this event.  The group sponsoring the e
 vent has contact information at the link provided above.\n\n\n\nFor mo
 re information visit http://arapahoeteaparty.ning.com/events/may-meeti
 ng-arapahoe-tea-party
DTSTART:20140514T003000Z
DTEND:20140514T023000Z
CATEGORIES:"monthly meeting"
LOCATION:South Metro Fire Rescue Authority; Mineral Headquarters, Boar
 d Room
WEBSITE:https://maps.google.com/maps?oe=utf-8&client=firefox-a&ie=UTF-
 8&q=south+metro+fire+rescue+authority+mineral+headquarters&fb=1&gl=us&
 hq=south+metro+fire+rescue+authority+mineral+headquarters&cid=0,0,9189
 900575761474566&ei=wsvZUfvrHoWQyQHR5oGQCg&ved=0CIcBEPwSMAA
URL:https://maps.google.com/maps?oe=utf-8&client=firefox-a&ie=UTF-8&q=
 south+metro+fire+rescue+authority+mineral+headquarters&fb=1&gl=us&hq=s
 outh+metro+fire+rescue+authority+mineral+headquarters&cid=0,0,91899005
 75761474566&ei=wsvZUfvrHoWQyQHR5oGQCg&ved=0CIcBEPwSMAA
CONTACT:303-885-2550
ORGANIZER:Regina Thomson and Randy Corporon [posted by W. Branstetter]
ATTACH;FMTTYPE="image/jpeg":
ATTENDEE;ROLE=REQ-PARTICIPANT;PARTSTAT=ACCEPTED;RSVP=TRUE;CN="Melinda 
 Argust":http://arapahoeteaparty.ning.com/profile/MelindaArgust
ATTENDEE;ROLE=REQ-PARTICIPANT;PARTSTAT=ACCEPTED;RSVP=TRUE;CN="John J. 
 Waters":http://arapahoeteaparty.ning.com/profile/JohnJWaters
ATTENDEE;ROLE=REQ-PARTICIPANT;PARTSTAT=ACCEPTED;RSVP=TRUE;CN="W. Brans
 tetter":http://arapahoeteaparty.ning.com/profile/WBranstetter
END:VEVENT
END:VCALENDAR
