BEGIN:VCALENDAR
PRODID:NingEventWidget-v1
VERSION:2.0
METHOD:PUBLISH
BEGIN:VEVENT
UID:3186561:Event:54279
DTSTAMP:20210313T174055Z
SUMMARY:May 2015 Meeting: Arapahoe Tea Party-Topic is Agenda 21
DESCRIPTION:Randy B. Corporon announced on KLZ 560 radio this event. Â
  Listen there for other news of this group and others.\n\nJoin the Ara
 pahoe Tea Party and the Colorado Tea Party Patriots for our May 12, 20
 15, meeting. Â Come early for a good seat and make new acquaintances. 
 Â Richard Garrison with Evergreen Tea Party will talk about Agenda 21 
 (from the United Nations) an important update.\n\nAlways more to talk 
 about so come for information.\n\nNOTE that at the February meeting so
 me people signed up to help with re-organization and helping with meet
 ing topics. Â Because of weather, I am not sure anything further was d
 one. Â Randy Corporon has been occupied with court case(s), so we do n
 eed to find people who can help plan events. Â The following entry is 
 leftover from February.\n\n***********\n\n[topics and speakers pending
 ] -- UPDATE as of early 02/09/2015:\n\nRandy indicates that the meetin
 g will include reorganization efforts for the meeting. Â So bring ener
 gy and ideas.\n\n*************\n\nAs with all of the meetings, come ea
 rly for a good seat. Â There may be additions to the program.\n\nOur m
 eetings have been standing room only, so come early!\nÂ \nTuesday, May
  12, 2015 6:30-8:30 pm South Metro Fire Rescue 9195 E. Mineral Ave. Ce
 ntennial, CO 80112\nÂ \nWatch for other announcements from Randy Corpo
 ron regarding speakers or topics. Â Listen to KLZ 560 radio, especiall
 y Randy's show 5-8 a.m. MT weekdays.\n\nEvent announcement on Facebook
 :\n\nÂ \nÂ \nIf you would be interested in helping with a committee or
  two that might help make meetings and events run smoother, would you 
 please post a brief comment with this announcement.\nÂ \nIf you are no
 t connected via Facebook, please find the group \"Arapahoe Tea Party\"
 Â for news items and events:\nhttps://www.facebook.com/groups/arapahoe
 teaparty\nÂ \n*************************\n\nNOTE:Â  Please do not conta
 ct the building management for information about this event.Â  The gro
 up sponsoring the event has contact information at the link provided a
 bove.\n\n************************\n\nReminder from April 2015 meeting 
 of Darryl Glenn, candidate for U.S Senator, currently El Paso County C
 ommissioner\n\nhttp://www.electdarrylglenn.com/\n\nhttp://www.csindy.c
 om/IndyBlog/archives/2015/01/15/darryl-glenn-will-run-against-sen-benn
 et\n\nhttp://gazette.com/glenn-early-announcement-for-u.s.-senate-run-
 shows-he-is-very-serious/article/1544655\n\n\n\nFor more information v
 isit http://arapahoeteaparty.ning.com/events/may-2015-meeting-arapahoe
 -tea-party-topic-is-agenda-21
DTSTART:20150513T003000Z
DTEND:20150513T023000Z
CATEGORIES:"monthly meeting"
LOCATION:South Metro Fire Rescue Authority; Mineral Headquarters, Boar
 d Room
WEBSITE:https://maps.google.com/maps?oe=utf-8&client=firefox-a&ie=UTF-
 8&q=south+metro+fire+rescue+authority+mineral+headquarters&fb=1&gl=us&
 hq=south+metro+fire+rescue+authority+mineral+headquarters&cid=0,0,9189
 900575761474566&ei=wsvZUfvrHoWQyQHR5oGQCg&ved=0CIcBEPwSMAA
URL:https://maps.google.com/maps?oe=utf-8&client=firefox-a&ie=UTF-8&q=
 south+metro+fire+rescue+authority+mineral+headquarters&fb=1&gl=us&hq=s
 outh+metro+fire+rescue+authority+mineral+headquarters&cid=0,0,91899005
 75761474566&ei=wsvZUfvrHoWQyQHR5oGQCg&ved=0CIcBEPwSMAA
CONTACT:303-885-2550
ORGANIZER:Regina Thomson and Randy Corporon [posted by W. Branstetter]
ATTACH;FMTTYPE="image/jpeg":
ATTENDEE;ROLE=REQ-PARTICIPANT;PARTSTAT=ACCEPTED;RSVP=TRUE;CN="W. Brans
 tetter":http://arapahoeteaparty.ning.com/profile/WBranstetter
ATTENDEE;ROLE=REQ-PARTICIPANT;PARTSTAT=ACCEPTED;RSVP=TRUE;CN="Randy B 
 Corporon":http://arapahoeteaparty.ning.com/profile/RandyBCorporon
END:VEVENT
END:VCALENDAR
