BEGIN:VCALENDAR
PRODID:NingEventWidget-v1
VERSION:2.0
METHOD:PUBLISH
BEGIN:VEVENT
UID:3186561:Event:49105
DTSTAMP:20210313T173232Z
SUMMARY:March Meeting: Arapahoe Tea Party
DESCRIPTION:Join the Arapahoe Tea Party and the Colorado Tea Party Pat
 riots for our March 11, 2014, meeting.\n\nBring your questions, your p
 erspective and your comments. Our meetings have been standing room onl
 y, so come early!\n \nTuesday, March 11, 2014 6:30-8:30 pm South Metr
 o Fire Rescue 9195 E. Mineral Ave. Centennial, CO 80112\n \nWatch for
  other announcements from Randy Corporon regarding speakers or topics.
 \n\nEvent announcement on Facebook:\n \n \nIf you would be intereste
 d in helping with a committee or two that might help make meetings and
  events run smoother, would you please post a brief comment with this 
 announcement.\n \nIf you are not connected via Facebook, please find 
 the group \"Arapahoe Tea Party\" \nhttps://www.facebook.com/groups/ar
 apahoeteaparty\n \n*************************\n\nNOTE:  Please do not
  contact the building management for information about this event.  T
 he group sponsoring the event has contact information at the link prov
 ided above.\n\n\n\nFor more information visit http://arapahoeteaparty.
 ning.com/events/march-meeting-arapahoe-tea-party
DTSTART:20140312T003000Z
DTEND:20140312T023000Z
CATEGORIES:"monthly meeting"
LOCATION:South Metro Fire Rescue Authority; Mineral Headquarters, Boar
 d Room
WEBSITE:https://maps.google.com/maps?oe=utf-8&client=firefox-a&ie=UTF-
 8&q=south+metro+fire+rescue+authority+mineral+headquarters&fb=1&gl=us&
 hq=south+metro+fire+rescue+authority+mineral+headquarters&cid=0,0,9189
 900575761474566&ei=wsvZUfvrHoWQyQHR5oGQCg&ved=0CIcBEPwSMAA
URL:https://maps.google.com/maps?oe=utf-8&client=firefox-a&ie=UTF-8&q=
 south+metro+fire+rescue+authority+mineral+headquarters&fb=1&gl=us&hq=s
 outh+metro+fire+rescue+authority+mineral+headquarters&cid=0,0,91899005
 75761474566&ei=wsvZUfvrHoWQyQHR5oGQCg&ved=0CIcBEPwSMAA
CONTACT:303-885-2550
ORGANIZER:Regina Thomson and Randy Corporon [posted by W. Branstetter]
ATTACH;FMTTYPE="image/jpeg":
ATTENDEE;ROLE=REQ-PARTICIPANT;PARTSTAT=ACCEPTED;RSVP=TRUE;CN="W. Brans
 tetter":http://arapahoeteaparty.ning.com/profile/WBranstetter
END:VEVENT
END:VCALENDAR
