BEGIN:VCALENDAR
PRODID:NingEventWidget-v1
VERSION:2.0
METHOD:PUBLISH
BEGIN:VEVENT
UID:3186561:Event:53629
DTSTAMP:20210313T171552Z
SUMMARY:Loveland 912 Project Meeting with Shawn Mitchell, Ken Clark, a
 nd Steve House
DESCRIPTION:The Loveland 912 Project meets at Message of Life Ministri
 es in Loveland.  Speakers are former state senator Shawn Mitchell, ra
 dio host Ken Clark, and GOP state chair candidate Steve House.  The l
 ocation is north of the Denver metro area.\n\nLoveland 912 Project\nme
 ets at Message of Life Ministries605 18th Street SWLoveland, CO  8053
 76:30 PM until 8:30 PMHere is a map http://binged.it/13nnWlF\n\nMore 
 info:\n\nhttp://us1.campaign-archive2.com/?u=c98add801b609aca4439ab0bf
 &id=19faa3874c\n\n***********************\n\nhttp://www.loveland912pro
 ject.org/\n\nFor anyone who may not know the idea behind the groups us
 ing the 912 Project name, it derives from 9 principles and 12 values a
 long with the idea how people came together for family and strangers o
 n September 12, 2001 (09/12/2001).  The 912 Project was an idea by Gl
 enn Beck in 2009 as a way to reunify people in common purposes.\n\nhtt
 p://www.loveland912project.org/principles-and-values\n\n\n\nFor more i
 nformation visit http://arapahoeteaparty.ning.com/events/loveland-912-
 project-meeting-with-shawn-mitchell-ken-clark-and-st
DTSTART:20150220T013000Z
DTEND:20150220T033000Z
CATEGORIES:meeting
LOCATION:Message of Life Ministries
WEBSITE:http://www.loveland912project.org/
URL:http://www.loveland912project.org/
CONTACT:
ORGANIZER:Loveland 912 Project [posted by W. Branstetter]
ATTACH;FMTTYPE="image/jpeg":
END:VEVENT
END:VCALENDAR
