BEGIN:VCALENDAR
PRODID:NingEventWidget-v1
VERSION:2.0
METHOD:PUBLISH
BEGIN:VEVENT
UID:3186561:Event:53884
DTSTAMP:20210313T171624Z
SUMMARY:Loveland 912 Project Meeting with Ken Clark
DESCRIPTION:The Loveland 912 Project meets at Message of Life Ministri
 es in Loveland.  Speakers include radio host Ken Clark.  The locatio
 n is north of the Denver metro area.\n\nLoveland 912 Project\nmeets at
  Message of Life Ministries 605 18th Street SW Loveland, CO  80537 6:
 30 PM until 8:30 PM  Here is a map http://binged.it/13nnWlF\n\nMore i
 nfo:\n\nhttp://us1.campaign-archive2.com/?u=c98add801b609aca4439ab0bf&
 id=19faa3874c\n\n***********************\n\nhttp://www.loveland912proj
 ect.org/\n\nFor anyone who may not know the idea behind the groups usi
 ng the 912 Project name, it derives from 9 principles and 12 values al
 ong with the idea how people came together for family and strangers on
  September 12, 2001 (09/12/2001).  The 912 Project was an idea by Gle
 nn Beck in 2009 as a way to reunify people in common purposes.\n\nhttp
 ://www.loveland912project.org/principles-and-values\n\n\n\nFor more in
 formation visit http://arapahoeteaparty.ning.com/events/loveland-912-p
 roject-meeting-with-ken-clark
DTSTART:20150320T003000Z
DTEND:20150320T023000Z
CATEGORIES:meeting
LOCATION:Message of Life Ministries
WEBSITE:http://www.loveland912project.org/
URL:http://www.loveland912project.org/
CONTACT:
ORGANIZER:Loveland 912 Project [posted by W. Branstetter]
ATTACH;FMTTYPE="image/jpeg":
END:VEVENT
END:VCALENDAR
