BEGIN:VCALENDAR
PRODID:NingEventWidget-v1
VERSION:2.0
METHOD:PUBLISH
BEGIN:VEVENT
UID:3186561:Event:50853
DTSTAMP:20210313T174244Z
SUMMARY:Livestream portions of 9th International Conference on Climate
  Change
DESCRIPTION:Walter Cunningham, Apollo 7 astronaut, spoke with MRCTV re
 garding the climate change conference that will be held July 7-9, 2014
 , in Las Vegas where he is scheduled to speak.There is a good article 
 with the interview at:\n\nhttp://cnsnews.com/mrctv-blog/craig-banniste
 r/apollo-astronaut-climate-alarmism-biggest-fraud-field-science\n\nThe
  information about the conference is posted here:\n\nhttp://climatecon
 ference.heartland.org/\n\nSign up in advance to watch the livestream s
 egments of the conference that start at 6:45 p.m. PDT (7:45 p.m. MT) M
 onday, July 7, by connecting to the \"Watch Live\" tab at the above li
 nk.\n\nSome people might find some interesting speakers there.  \n\n*
 ***************\n\nPlease read the information on the web site for eve
 nt details because the agenda is more detailed than is possible with t
 his event announcement that is posted as \"all day\" event although po
 rtions start and end at various times, not truly \"all day.\"\n\n\nFor
  more information visit http://arapahoeteaparty.ning.com/events/livest
 ream-portions-of-9th-international-conference-on-climate-ch
DTSTART:20140707T060000Z
DTEND:20140710T055900Z
CATEGORIES:conference
LOCATION:Livestream to your computer from Las Vegas
WEBSITE:http://climateconference.heartland.org
URL:http://climateconference.heartland.org
CONTACT:
ORGANIZER:[posted by W. Branstetter]
ATTACH;FMTTYPE="image/jpeg":
ATTENDEE;ROLE=REQ-PARTICIPANT;PARTSTAT=ACCEPTED;RSVP=TRUE;CN="W. Brans
 tetter":http://arapahoeteaparty.ning.com/profile/WBranstetter
END:VEVENT
END:VCALENDAR
