BEGIN:VCALENDAR
PRODID:NingEventWidget-v1
VERSION:2.0
METHOD:PUBLISH
BEGIN:VEVENT
UID:3186561:Event:55895
DTSTAMP:20210313T172740Z
SUMMARY:Livestream or TV:  \"Full Measure\" with Sharyl Atkisson and t
 eam of investigative reporters
DESCRIPTION:\"Full Measure\" with Sharyl Atkisson will air on Sinclair
  affiliated stations across the country or will livestream with a link
  at air time on:\n\nhttp://fullmeasure.news/\n\n\nThe investigative an
 d whistleblower program started Sunday, October 4, 2015, at 9:30 a.m. 
 (ET) or 7:30 a.m. MT.\n\nNote that if you miss the half-hour program, 
 the video segments of the stories covered are posted on the Full Measu
 re web site later.  Check out the portions that interest you.\n\nWatc
 h for news and info on the Facebook page:\n\nhttps://www.facebook.com/
 FullMeasureNews\n\nAn early release coincided with 9/11\n\nhttps://sha
 rylattkisson.com/investigation-the-us-governments-911-secrets-video/\n
 \nhttps://sharylattkisson.com/\n\n\nFor more information visit http://
 arapahoeteaparty.ning.com/events/livestream-or-tv-full-measure-with-sh
 aryl-atkisson-and-team-of
DTSTART:20160117T143000Z
DTEND:20160117T150000Z
CATEGORIES:"news reports"
LOCATION:Livestream or Sinclair TV stations
WEBSITE:http://fullmeasure.news/
URL:http://fullmeasure.news/
CONTACT:
ORGANIZER:posted by W. Branstetter
ATTACH;FMTTYPE="image/jpeg":
ATTENDEE;ROLE=REQ-PARTICIPANT;PARTSTAT=ACCEPTED;RSVP=TRUE;CN="W. Brans
 tetter":http://arapahoeteaparty.ning.com/profile/WBranstetter
END:VEVENT
END:VCALENDAR
