BEGIN:VCALENDAR
PRODID:NingEventWidget-v1
VERSION:2.0
METHOD:PUBLISH
BEGIN:VEVENT
UID:3186561:Event:55614
DTSTAMP:20210313T171938Z
SUMMARY:Livestream or TV:  \"Full Measure\" with Sharyl Atkisson and t
 eam of investigative reporters
DESCRIPTION:\"Full Measure\" with Sharyl Atkisson will air on Sinclair
  affiliated stations across the country or will livestream with a link
  at air time on:\n\nhttp://fullmeasure.news/\n\nHere is a link to an a
 rticle that teases the material that will be on this Sunday, including
  new material on Benghazi just prior to the release of the movie \"13 
 Hours\":\n\nhttps://sharylattkisson.com/benghazi-rescue-interrupted/\n
 \nThe investigative and whistleblower program started Sunday, October 
 4, 2015, at 9:30 a.m. (ET) or 7:30 a.m. MT.\n\nNote that if you miss t
 he half-hour program, the video segments of the stories covered are po
 sted on the Full Measure web site later.  Check out the portions that
  interest you.\n\nWatch for news and info on the Facebook page:\n\nhtt
 ps://www.facebook.com/FullMeasureNews\n\nAn early release coincided wi
 th 9/11\n\nhttps://sharylattkisson.com/investigation-the-us-government
 s-911-secrets-video/\n\nhttps://sharylattkisson.com/\n\n\nFor more inf
 ormation visit http://arapahoeteaparty.ning.com/events/livestream-or-t
 v-full-measure-with-sharyl-atkisson-and-team-of-in
DTSTART:20160110T143000Z
DTEND:20160110T150000Z
CATEGORIES:"news reports"
LOCATION:Livestream or Sinclair TV stations
WEBSITE:http://fullmeasure.news/
URL:http://fullmeasure.news/
CONTACT:
ORGANIZER:posted by W. Branstetter
ATTACH;FMTTYPE="image/jpeg":
ATTENDEE;ROLE=REQ-PARTICIPANT;PARTSTAT=ACCEPTED;RSVP=TRUE;CN="W. Brans
 tetter":http://arapahoeteaparty.ning.com/profile/WBranstetter
END:VEVENT
END:VCALENDAR
