BEGIN:VCALENDAR
PRODID:NingEventWidget-v1
VERSION:2.0
METHOD:PUBLISH
BEGIN:VEVENT
UID:3186561:Event:57765
DTSTAMP:20210313T172319Z
SUMMARY:Livestream or TV:  \"Full Measure\" with Sharyl Atkisson and t
 eam of investigative reporters
DESCRIPTION:\"Full Measure\" with Sharyl Atkisson will air on Sinclair
  affiliated stations across the country or will livestream with a link
  at air time on:\n\nhttp://fullmeasure.news/\n\nThe investigative and 
 whistleblower program started Sunday, October 4, 2015, at 9:30 a.m. (E
 T) or 7:30 a.m. MT.\n\nNote that if you miss the half-hour program, th
 e video segments of the stories covered are posted on the Full Measure
  web site later.  Check out the portions that interest you.\n\nWatch 
 for news and info on the Facebook page:\n\nhttps://www.facebook.com/Fu
 llMeasureNews\n\nAn early release coincided with 9/11\n\nhttps://shary
 lattkisson.com/investigation-the-us-governments-911-secrets-video/\n\n
 https://sharylattkisson.com/\n\n\nFor more information visit http://ar
 apahoeteaparty.ning.com/events/livestream-or-tv-full-measure-with-shar
 yl-atkisson-and-team-of-7
DTSTART:20160424T133000Z
DTEND:20160424T140000Z
CATEGORIES:"news reports"
LOCATION:Livestream or Sinclair TV stations
WEBSITE:http://fullmeasure.news/
URL:http://fullmeasure.news/
CONTACT:
ORGANIZER:posted by W. Branstetter
ATTACH;FMTTYPE="image/jpeg":
ATTENDEE;ROLE=REQ-PARTICIPANT;PARTSTAT=ACCEPTED;RSVP=TRUE;CN="W. Brans
 tetter":http://arapahoeteaparty.ning.com/profile/WBranstetter
END:VEVENT
END:VCALENDAR
