BEGIN:VCALENDAR
PRODID:NingEventWidget-v1
VERSION:2.0
METHOD:PUBLISH
BEGIN:VEVENT
UID:3186561:Event:64176
DTSTAMP:20210313T173815Z
SUMMARY:Livestream or TV:  \"Full Measure\" with Sharyl Atkisson and t
 eam of investigative reporters
DESCRIPTION:\"Full Measure\" with Sharyl Atkisson will air on Sinclair
  affiliated stations across the country or will livestream with a link
  at air time on:\r\n\r\nhttp://fullmeasure.news/\r\n\r\nSee the segmen
 ts from the half-hour program at the website any time.  Always intere
 sting items.\r\n\r\nThe investigative and whistleblower program starte
 d Sunday, October 4, 2015, at 9:30 a.m. (ET) or 7:30 a.m. MT.\r\n\r\nN
 ote that if you miss the half-hour program, the video segments of the 
 stories covered are posted on the Full Measure web site later.  Check
  out the portions that interest you.\r\n\r\nWatch for news and info on
  the Facebook page:\r\n\r\nhttps://www.facebook.com/FullMeasureNews\r\
 n\r\nAn early release coincided with 9/11\r\n\r\nhttps://sharylattkiss
 on.com/investigation-the-us-governments-911-secrets-video/\r\n\r\nhttp
 s://sharylattkisson.com/\r\n\n\nFor more information visit http://arap
 ahoeteaparty.ning.com/events/livestream-or-tv-full-measure-with-sharyl
 -atkisson-and-team-o-378
DTSTART:20180107T143000Z
DTEND:20180107T150000Z
CATEGORIES:"news reports"
LOCATION:Livestream or Sinclair TV stations
WEBSITE:http://fullmeasure.news/
URL:http://fullmeasure.news/
CONTACT:
ORGANIZER:posted by W. Branstetter
ATTACH;FMTTYPE="image/jpeg":
ATTENDEE;ROLE=REQ-PARTICIPANT;PARTSTAT=ACCEPTED;RSVP=TRUE;CN="W. Brans
 tetter":http://arapahoeteaparty.ning.com/profile/WBranstetter
END:VEVENT
END:VCALENDAR
