BEGIN:VCALENDAR
PRODID:NingEventWidget-v1
VERSION:2.0
METHOD:PUBLISH
BEGIN:VEVENT
UID:3186561:Event:55106
DTSTAMP:20210313T181727Z
SUMMARY:Livestream or TV:  \"Full Measure\" with Sharryl Atkisson and 
 team of investigative reporters
DESCRIPTION:\"Full Measure\" with Sharryl Atkisson will air on Sinclai
 r affiliated stations across the country or will livestream with a lin
 k at air time on:\n\nhttp://fullmeasure.news/\n\nThe investigative and
  whistleblower program will start Sunday, October 4, 2015, at 9:30 a.m
 . (ET) or 7:30 a.m. MT.\n\nWatch for news and info on the Facebook pag
 e:\n\nhttps://www.facebook.com/FullMeasureNews\n\nAn early release coi
 ncided with 9/11\n\nhttps://sharylattkisson.com/investigation-the-us-g
 overnments-911-secrets-video/\n\nhttps://sharylattkisson.com/\n\n\nFor
  more information visit http://arapahoeteaparty.ning.com/events/livest
 ream-or-tv-full-measure-with-sharryl-atkisson-and-team-of
DTSTART:20151011T133000Z
DTEND:20151011T140000Z
CATEGORIES:"news reports"
LOCATION:Livestream or Sinclair TV stations
WEBSITE:http://fullmeasure.news/
URL:http://fullmeasure.news/
CONTACT:
ORGANIZER:posted by W. Branstetter
ATTACH;FMTTYPE="image/jpeg":
ATTENDEE;ROLE=REQ-PARTICIPANT;PARTSTAT=ACCEPTED;RSVP=TRUE;CN="W. Brans
 tetter":http://arapahoeteaparty.ning.com/profile/WBranstetter
END:VEVENT
END:VCALENDAR
