BEGIN:VCALENDAR
PRODID:NingEventWidget-v1
VERSION:2.0
METHOD:PUBLISH
BEGIN:VEVENT
UID:3186561:Event:55240
DTSTAMP:20210313T181541Z
SUMMARY:Livestream or TV:  \"Full Measure\" with Sharryl Atkisson and 
 team of investigative reporters
DESCRIPTION:\"Full Measure\" with Sharryl Atkisson will air on Sinclai
 r affiliated stations across the country or will livestream with a lin
 k at air time on:\n\nhttp://fullmeasure.news/\n\nThe investigative and
  whistleblower program start Sunday, October 4, 2015, at 9:30 a.m. (ET
 ) or 7:30 a.m. MT.\n\nNote that if you miss the half-hour program, the
  video segments of the stories covered are posted on the Full Measure 
 web site later.  Check out the portions that interest you.\n\nWatch f
 or news and info on the Facebook page:\n\nhttps://www.facebook.com/Ful
 lMeasureNews\n\nAn early release coincided with 9/11\n\nhttps://sharyl
 attkisson.com/investigation-the-us-governments-911-secrets-video/\n\nh
 ttps://sharylattkisson.com/\n\n\nFor more information visit http://ara
 pahoeteaparty.ning.com/events/livestream-or-tv-full-measure-with-sharr
 yl-atkisson-and-team-of-2
DTSTART:20151101T143000Z
DTEND:20151101T150000Z
CATEGORIES:"news reports"
LOCATION:Livestream or Sinclair TV stations
WEBSITE:http://fullmeasure.news/
URL:http://fullmeasure.news/
CONTACT:
ORGANIZER:posted by W. Branstetter
ATTACH;FMTTYPE="image/jpeg":
ATTENDEE;ROLE=REQ-PARTICIPANT;PARTSTAT=ACCEPTED;RSVP=TRUE;CN="W. Brans
 tetter":http://arapahoeteaparty.ning.com/profile/WBranstetter
END:VEVENT
END:VCALENDAR
