BEGIN:VCALENDAR
PRODID:NingEventWidget-v1
VERSION:2.0
METHOD:PUBLISH
BEGIN:VEVENT
UID:3186561:Event:47768
DTSTAMP:20210313T181755Z
SUMMARY:Littleton School Board Candidate Forum
DESCRIPTION:This event is posted at the Arapahoe County League of Wome
 n Voters events page.  All of the details and candidates are listed o
 n the page.\n\nhttp://lwvarapahoe.org/Public_Events.html\n\nTuesday, O
 ctober 1, 2013\n6:30 - 8:30 p.m.\nLittleton High School\n199 E. Little
 ton Blvd.\nLittleton, CO 80121\n\nThere are five candidates and three 
 openings for 4-year terms.\n\nI have no idea what type of format or qu
 estions the League of Women Voters might use for their forums.\n \n\
 nFor more information visit http://arapahoeteaparty.ning.com/events/li
 ttleton-school-board-candidate-forum
DTSTART:20131002T003000Z
DTEND:20131002T023000Z
CATEGORIES:"candidate forum"
LOCATION:Littleton High School
WEBSITE:http://lwvarapahoe.org/Public_Events.html
URL:http://lwvarapahoe.org/Public_Events.html
CONTACT:
ORGANIZER:League of Women Voters [posted by W. Branstetter]
ATTACH;FMTTYPE="image/jpeg":
ATTENDEE;ROLE=REQ-PARTICIPANT;PARTSTAT=ACCEPTED;RSVP=TRUE;CN="Robert J
 ":http://arapahoeteaparty.ning.com/profile/RobertJeffries
ATTENDEE;ROLE=REQ-PARTICIPANT;PARTSTAT=ACCEPTED;RSVP=TRUE;CN="Nancy Ca
 porale":http://arapahoeteaparty.ning.com/profile/NancyCaporale
END:VEVENT
END:VCALENDAR
