BEGIN:VCALENDAR
PRODID:NingEventWidget-v1
VERSION:2.0
METHOD:PUBLISH
BEGIN:VEVENT
UID:3186561:Event:47794
DTSTAMP:20210313T172944Z
SUMMARY:Littleton City Council Candidate Forum
DESCRIPTION:The Littleton City Council At-Large candidates will be fea
 tured at this forum:Wednesday, October 9\n6:30-8:45pm\nBemis Library\n
 6014 S Datura St\nLittleton, CO 80120\n \nThe At-Large candidates are
 :\nBruce Beckman\nJames Dean\nBruce R. Stahlman\nJohn Watson\nThe four
  candidates are running to fill two At-Large positions on the Littleto
 n City Council. Bruce Beckman and Bruce Stahlman are incumbents seekin
 g a second term. James Dean and John Watson are challenging the two in
 cumbents.  The candidate who wins the most votes will serve a 4-year t
 erm; the candidate who has the second highest number of votes will ser
 ve a 2-year term.  Candidates for District 1 and 3 are unopposed. The 
 District 1 candidate, Randy Stein, is running to replace Jim Taylor, w
 ho is term limited. The District 3 candidate, Phil Cernanec, is seekin
 g another 4-year term.  This event is free and open to the public.  Li
 ttleton voters will also be asked to decide three ballot issues: An ad
 ditional lodging tax on lodging of less than 30 days, a tax on retail 
 marijuana sales, and a change to the city's redistricting schedule.\nF
 or election information, call the City of Littleton's information line
  at 303-795-3700 or visit their web site here .\n**************\nNote 
 a previous event:Voter Registration at Daniel C. Oakes High School\nTh
 e League of Women Voters of Arapahoe County will conduct a voter regis
 tration drive at Daniel C. Oakes High School.\n\nWednesday, October 9\
 nDaniel C. Oakes High School\n961 S. Plum Creek Blvd.\nCastle Rock, CO
 , 80104\n\n\n \nhttp://lwvarapahoe.org/Public_Events.html\n \nMap fo
 r library: \n http://www.littletongov.org/index.aspx?page=590\n  \n
 \nFor more information visit http://arapahoeteaparty.ning.com/events/l
 ittleton-city-council-candidate-forum
DTSTART:20131010T003000Z
DTEND:20131010T024500Z
CATEGORIES:meeting
LOCATION:Bemis Library
WEBSITE:
URL:
CONTACT:
ORGANIZER:LWV [posted by W. Branstetter]
ATTACH;FMTTYPE="image/jpeg":
END:VEVENT
END:VCALENDAR
