BEGIN:VCALENDAR
PRODID:NingEventWidget-v1
VERSION:2.0
METHOD:PUBLISH
BEGIN:VEVENT
UID:3186561:Event:54977
DTSTAMP:20210313T182330Z
SUMMARY:Liberty Libations:  Special Guest is Steve House
DESCRIPTION:From Liberty Libations:\"Want to hear find out what's happ
 ening at the Colorado State Republican Party?\n\nSteve House, State Pa
 rty Chairman, will be our special guest speaker at our next Liberty Li
 bations which will be on June 16th, @ 6:00 PM, at Blue Spruce Brewing 
 Company, 4151 E County Line Rd, Centennial. (303) 771-0590.\n\nAs alwa
 ys, 'Good Friends+Good Brew+Good Food=Good Time.'\"\nBe sure to connec
 t with the group through their Facebook page for timely announcements 
 and information.\n\n\n\nFor more information visit http://arapahoeteap
 arty.ning.com/events/liberty-libations-special-guest-is-steve-house
DTSTART:20150617T000000Z
DTEND:20150617T020000Z
CATEGORIES:meeting
LOCATION:Blue Spruce Brewing Company
WEBSITE:
URL:
CONTACT:
ORGANIZER:Liberty Libations [posted by W. Branstetter]
ATTACH;FMTTYPE="image/jpeg":
ATTENDEE;ROLE=REQ-PARTICIPANT;PARTSTAT=ACCEPTED;RSVP=TRUE;CN="Marla Ma
 son":http://arapahoeteaparty.ning.com/profile/MarlaMason
END:VEVENT
END:VCALENDAR
