BEGIN:VCALENDAR
PRODID:NingEventWidget-v1
VERSION:2.0
METHOD:PUBLISH
BEGIN:VEVENT
UID:3186561:Event:50226
DTSTAMP:20210313T180821Z
SUMMARY:Lakewood, CO, Tea Party Monthly Meeting
DESCRIPTION:Lakewood (Colorado) Tea Party will meet at 7:00 p.m., Tues
 day, May 20, 2014, at Central Bible Church in Lakewood.\n\nWhen:  7:0
 0 p.m., Tuesday, May 20, 2014\n\nLocation:\nCentral Bible Church\n1490
  South Pierce Street\nLakewood, Colorado \n\nSpeakers:\nDavid K. Will
 iams, Jr., Libertarian candidate for Attorney General\n\nRebekah Brown
 , Regional Coordinator for Heritage Action\n\nRick Garrison from Everg
 reen Tea Party\nspeaking on Agenda 21\n\n\n\nFor more information visi
 t http://arapahoeteaparty.ning.com/events/lakewood-co-tea-party-monthl
 y-meeting
DTSTART:20140521T010000Z
DTEND:20140521T030000Z
CATEGORIES:"monthly meeting"
LOCATION:Central Bible Church
WEBSITE:
URL:
CONTACT:
ORGANIZER:[posted by W. Branstetter]
ATTACH;FMTTYPE="image/jpeg":
END:VEVENT
END:VCALENDAR
