BEGIN:VCALENDAR
PRODID:NingEventWidget-v1
VERSION:2.0
METHOD:PUBLISH
BEGIN:VEVENT
UID:3186561:Event:55315
DTSTAMP:20210313T174313Z
SUMMARY:Lakewood, CO, Tea Party Monthly Meeting
DESCRIPTION:Lakewood, Colorado, Tea Party\nTuesday, September 15, 2015
  -- 7:00-9:00 p.m.\nCentral Bible Church\n1490 South Pierce Street\n(N
 E corner of Florida and Pierce St.)\n\nhttps://www.facebook.com/events
 /1644405862493958/\n\nThe subject is Judicial Reform with a panel incl
 uding Chris Forsyth, a lawyer who started The Judicial Integrity Proje
 ct and Senator Laura Woods who will be sponsoring reform legislation i
 n the next session.\n\nCasper Stockham, candidate for CD-1, against Di
 ane DeGette, may also stop in.\nFor more information:\nLinda Mackety, 
 ChairLakewood Tea Party720-771-9092\n\n\n\nFor more information visit 
 http://arapahoeteaparty.ning.com/events/lakewood-co-tea-party-monthly-
 meeting-9
DTSTART:20150916T010000Z
DTEND:20150916T030000Z
CATEGORIES:meeting
LOCATION:Central Bible Church
WEBSITE:https://www.facebook.com/events/1644405862493958/
URL:https://www.facebook.com/events/1644405862493958/
CONTACT:
ORGANIZER:Linda Mackety [posted by W. Branstetter]
ATTACH;FMTTYPE="image/jpeg":
END:VEVENT
END:VCALENDAR
