BEGIN:VCALENDAR
PRODID:NingEventWidget-v1
VERSION:2.0
METHOD:PUBLISH
BEGIN:VEVENT
UID:3186561:Event:54793
DTSTAMP:20210313T172245Z
SUMMARY:Lakewood, CO, Tea Party Monthly Meeting
DESCRIPTION:Lakewood Tea Party meets at 1490 South Pierce Street (NE C
 orner) at Central Bible Church Tuesday June 16, 2015 at 7:00 p.m.-9:00
  p.m.\n\nLana Fore, former Secretary of the State Republican Party and
  an activist who has passion in several areas will tell where she's be
 en spending her time recently. She inspires all she meets to get off o
 ur couches and participate! \n\nFormer State Senate Candidate Tony Sa
 nchez is beginning a new group dealing with Freedom for Education and 
 will let us know how we can help with his new project.There will be ot
 her surprise guests too, so come with your friends (like minded or not
 ) and be prepared to be educated and encouraged.\n\nhttps://www.faceb
 ook.com/events/654507634650892/\n \n\nMeeting agenda will be added la
 ter or contact:\nyourlakewoodteaparty@gmail.com\n  This is grassroots 
 at its finest. Ask someone to come with you so we can increase our num
 bers and become more effective in our efforts.\n\nFacebook page at:\n\
 nhttps://www.facebook.com/lakewoodteaparty\n\n\n\n\nFor more informati
 on visit http://arapahoeteaparty.ning.com/events/lakewood-co-tea-party
 -monthly-meeting-8
DTSTART:20150617T010000Z
DTEND:20150617T030000Z
CATEGORIES:"monthly meeting"
LOCATION:Central Bible Church
WEBSITE:https://www.facebook.com/lakewoodteaparty
URL:https://www.facebook.com/lakewoodteaparty
CONTACT:
ORGANIZER:Linda Mackety [posted by W. Branstetter]
ATTACH;FMTTYPE="image/jpeg":
END:VEVENT
END:VCALENDAR
