BEGIN:VCALENDAR
PRODID:NingEventWidget-v1
VERSION:2.0
METHOD:PUBLISH
BEGIN:VEVENT
UID:3186561:Event:54472
DTSTAMP:20210313T173318Z
SUMMARY:Lakewood, CO, Tea Party Monthly Meeting
DESCRIPTION:Lakewood Tea Party meets at 1490 South Pierce Street (NE C
 orner) at Central Bible Church Tuesday April 21, 2015 at 7:00 p.m.-9:0
 0 p.m.\n\n \n\nMeeting agenda will be added later or contact:\nyourla
 kewoodteaparty@gmail.com\n  This is grassroots at its finest. Ask some
 one to come with you so we can increase our numbers and become more ef
 fective in our efforts.\n\nFacebook page at:\n\nhttps://www.facebook.c
 om/lakewoodteaparty\n\n\n\n\nFor more information visit http://arapaho
 eteaparty.ning.com/events/lakewood-co-tea-party-monthly-meeting-7
DTSTART:20150422T010000Z
DTEND:20150422T030000Z
CATEGORIES:"monthly meeting"
LOCATION:Central Bible Church
WEBSITE:https://www.facebook.com/lakewoodteaparty
URL:https://www.facebook.com/lakewoodteaparty
CONTACT:
ORGANIZER:Linda Mackety [posted by W. Branstetter]
ATTACH;FMTTYPE="image/jpeg":
END:VEVENT
END:VCALENDAR
