BEGIN:VCALENDAR
PRODID:NingEventWidget-v1
VERSION:2.0
METHOD:PUBLISH
BEGIN:VEVENT
UID:3186561:Event:53966
DTSTAMP:20210313T173302Z
SUMMARY:Lakewood, CO, Tea Party Monthly Meeting
DESCRIPTION:Lakewood Tea Party meets at 1490 South Pierce Street (NE C
 orner) at Central Bible Church Tuesday March 17, 2015 at 7:00 p.m.-9:0
 0 p.m.\n\nhttps://www.facebook.com/events/344184349120609/\n\nJefferso
 n County is, once again, facing School Board Elections. We will be pre
 senting information at this and upcoming meetings that will help us fo
 cus our activism.This month's speakers are newly elected State GOP Cha
 ir, Steve House and Anita Stapleton activist and expert on Colorado Ed
 ucation Legislation. They will each present their unique perspectives 
 and then we will have dialog with members. Come and get your questions
  answered and be prepared to use your knowledge to help educate your r
 elatives, friends and neighbors.This is grassroots at its finest. Ask 
 someone to come with you so we can increase our numbers and become mor
 e effective in our efforts.\n\nhttps://www.facebook.com/events/3441843
 49120609/\n\n\n\nFor more information visit http://arapahoeteaparty.ni
 ng.com/events/lakewood-co-tea-party-monthly-meeting-6
DTSTART:20150318T010000Z
DTEND:20150318T030000Z
CATEGORIES:"monthly meeting"
LOCATION:Central Bible Church
WEBSITE:
URL:
CONTACT:
ORGANIZER:Linda Mackety [posted by W. Branstetter]
ATTACH;FMTTYPE="image/jpeg":
END:VEVENT
END:VCALENDAR
