BEGIN:VCALENDAR
PRODID:NingEventWidget-v1
VERSION:2.0
METHOD:PUBLISH
BEGIN:VEVENT
UID:3186561:Event:53718
DTSTAMP:20210313T174250Z
SUMMARY:Lakewood, CO, Tea Party Monthly Meeting
DESCRIPTION:Lakewood Tea Party meets at 1490 South Pierce Street (NE C
 orner) at Central Bible Church Tuesday February 17, 2015 at 7:00 p.m. 
 We have invited Senator Ted Harvey and Lana Fore, State GOP Party Se
 cretary, to speak on the general topic of Unity and Healing within the
  Republican Party and how to message to bring back those who are disaf
 fected.We also have a person to present the argument for Convention of
  States. There might also be someone who can give the opposition posit
 ion. Our goal is always to demonstrate both sides of an issue so you c
 an make up your own minds.We hope you will come for this very interest
 ing program and be ready to be informed and use your education to info
 rm others, especially those who don't share your beliefs or opinions.\
 n\nhttps://www.facebook.com/events/820564011350560/\n\n\n\nFor more in
 formation visit http://arapahoeteaparty.ning.com/events/lakewood-co-te
 a-party-monthly-meeting-5
DTSTART:20150218T020000Z
DTEND:20150218T040000Z
CATEGORIES:"monthly meeting"
LOCATION:Central Bible Church
WEBSITE:
URL:
CONTACT:
ORGANIZER:Linda Mackety [posted by W. Branstetter]
ATTACH;FMTTYPE="image/jpeg":
END:VEVENT
END:VCALENDAR
