BEGIN:VCALENDAR
PRODID:NingEventWidget-v1
VERSION:2.0
METHOD:PUBLISH
BEGIN:VEVENT
UID:3186561:Event:53831
DTSTAMP:20210313T174253Z
SUMMARY:Lakewood, CO, Tea Party Monthly Meeting
DESCRIPTION:Lakewood Tea Party (Colorado) at 1490 South Pierce Street 
 (NE Corner) at Central Bible Church Tuesday February 17, 2015 at 7:00 
 p.m.\n\nWe have invited Senator Ted Harvey and Lana Fore, State GOP 
 Party Secretary, to speak on the general topic of Unity and Healing wi
 thin the Republican Party and how to message to bring back those who a
 re disaffected.We also have a person to present the argument for Conve
 ntion of States. There might also be someone who can give the oppositi
 on position. Our goal is always to demonstrate both sides of an issue 
 so you can make up your own minds.\n\nWe hope you will come for this v
 ery interesting program and be ready to be informed and use your educa
 tion to inform others, especially those who don't share your beliefs o
 r opinions.\n\nhttps://www.facebook.com/events/820564011350560/\n\n\n\
 nFor more information visit http://arapahoeteaparty.ning.com/events/la
 kewood-co-tea-party-monthly-meeting-4
DTSTART:20150121T020000Z
DTEND:20150121T040000Z
CATEGORIES:"monthly meeting"
LOCATION:Central Bible Church
WEBSITE:
URL:
CONTACT:
ORGANIZER:Linda Mackety [posted by W. Branstetter]
ATTACH;FMTTYPE="image/jpeg":
END:VEVENT
END:VCALENDAR
