BEGIN:VCALENDAR
PRODID:NingEventWidget-v1
VERSION:2.0
METHOD:PUBLISH
BEGIN:VEVENT
UID:3186561:Event:52337
DTSTAMP:20210313T193414Z
SUMMARY:Lakewood, CO, Tea Party Monthly Meeting
DESCRIPTION:Lakewood Tea Party's November 18, 2014, meeting \"we will
  solve a few of our State's biggest problems. (Riiiight!) Matt Arnold 
 opens with a debrief of the recent elections and we have invited sever
 al of our favorite political minds for round table discussions. Attend
 ees will chose 3 or 4 (depending on time) topics of importance to them
  and we will give our 2 cents worth for 20 minutes on each topic.The g
 oal is not so much to be heard, as to listen and find common ground. H
 opefully we can use what we learn for more effective activism. Come a
 nd be a part of this very different format.\" FREE All are welcome! Br
 ing friends and neighbors!\n\nFor details and RSVP use the Facebook an
 nouncement:\nhttps://www.facebook.com/events/857668324284543/\n\nLakew
 ood, Colorado, Tea Party\nNovember 18, 2014 at 7:00 pm - 9:00 pm\nCen
 tral Bible Church\n1490 South Pierce Street\n(NE corner of Pierce and 
 Florida)\nLakewood, Colorado\n\n\nArrive early for a good seat.\n\n\n\
 nFor more information visit http://arapahoeteaparty.ning.com/events/la
 kewood-co-tea-party-monthly-meeting-3
DTSTART:20141119T020000Z
DTEND:20141119T040000Z
CATEGORIES:"monthly meeting"
LOCATION:Central Bible Church
WEBSITE:https://www.facebook.com/events/857668324284543/
URL:https://www.facebook.com/events/857668324284543/
CONTACT:
ORGANIZER:Lakewood Tea Party [posted by W. Branstetter]
ATTACH;FMTTYPE="image/jpeg":
END:VEVENT
END:VCALENDAR
